Workbook

Sheet ==HUNTER by BLIND==
A1: DATE | B1: B1 | C1: B2 | D1: B3 | E1: B4 | F1: B5 | G1: C1 | H1: C2 | I1: C3 | J1: C4 | K1: F1 | L1: F2 | M1: H1 | N1: I1 | O1: J1 | P1: J2 | Q1: 01 | R1: 02 | S1: 03 | T1: 04 | U1: 12 | V1: 13 | W1: 14 | X1: 15 | Y1: 16 | Z1: 17 | AA1: 18 | AB1: 19 | AC1: 20 | AD1: 21 | AE1: 22 | AF1: 40 | AG1: 41 | AH1: 42 | AI1: 43 | AJ1: 44 | AK1: 45 | AL1: 46 | AM1: 47 | AN1: 48 | AO1: 50 | AP1: 60 | AQ1: 61 | AR1: TOTAL
A2: 44485 | D2: 5 | E2: 5 | F2: 3 | I2: 3 | M2: 3 | N2: 2 | O2: 4 | Q2: 3 | R2: 4 | S2: 6 | U2: 5 | V2: 8 | X2: 3 | Y2: 3 | AA2: 2 | AD2: 2 | AF2: 3 | AG2: 3 | AO2: 4 | AR2: =SUM(B2:AQ2) -> 71
A3: 44486 | D3: 3 | E3: 3 | F3: 3 | J3: 1 | M3: 4 | N3: 3 | O3: 4 | P3: 3 | Q3: 4 | R3: 2 | S3: 4 | T3: 4 | U3: 5 | W3: 4 | X3: 2 | Y3: 3 | Z3: 3 | AD3: 2 | AN3: 1 | AR3: =SUM(B3:AQ3) -> 58
A4: 44489 | D4: 4 | E4: 4 | F4: 2 | G4: 2 | I4: 2 | J4: 1 | L4: 1 | M4: 3 | N4: 3 | O4: 1 | P4: 3 | Q4: 3 | R4: 1 | S4: 3 | T4: 3 | U4: 3 | W4: 4 | X4: 3 | AC4: 2 | AR4: =SUM(B4:AQ4) -> 48
A5: 44492 | D5: 3 | E5: 3 | F5: 2 | H5: 1 | I5: 3 | M5: 2 | N5: 1 | Q5: 4 | R5: 6 | S5: 4 | T5: 2 | U5: 5 | W5: 2 | X5: 5 | Y5: 1 | Z5: 1 | AA5: 4 | AD5: 1 | AI5: 2 | AR5: =SUM(B5:AQ5) -> 52
A6: 44493 | D6: 3 | E6: 2 | F6: 3 | G6: 2 | M6: 2 | N6: 3 | Q6: 3 | R6: 2 | S6: 3 | U6: 3 | V6: 1 | W6: 4 | X6: 2 | Y6: 4 | Z6: 2 | AB6: 4 | AD6: 1 | AE6: 1 | AF6: 1 | AN6: 2 | AO6: 2 | AR6: =SUM(B6:AQ6) -> 50
A7: 44496 | D7: 2 | E7: 1 | F7: 2 | G7: 2 | I7: 1 | J7: 1 | P7: 1 | Q7: 2 | R7: 4 | S7: 3 | U7: 5 | W7: 1 | X7: 3 | AA7: 3 | AD7: 2 | AR7: =SUM(B7:AQ7) -> 33
A8: 44499 | D8: 4 | E8: 3 | F8: 2 | J8: 1 | Q8: 3 | R8: 4 | S8: 2 | U8: 4 | W8: 3 | X8: 2 | AA8: 2 | AD8: 2 | AL8: 2 | AO8: 2 | AR8: =SUM(B8:AQ8) -> 36
A9: 44500 | D9: 2 | E9: 2 | H9: 2 | I9: 1 | J9: 1 | M9: 2 | Q9: 4 | R9: 4 | S9: 4 | U9: 3 | W9: 3 | X9: 3 | Y9: 4 | Z9: 2 | AD9: 3 | AN9: 2 | AR9: =SUM(B9:AQ9) -> 42
A10: 44506 | D10: 2 | E10: 3 | F10: 1 | G10: 2 | H10: 1 | I10: 2 | J10: 1 | L10: 3 | M10: 3 | N10: 4 | O10: 2 | Q10: 3 | R10: 1 | S10: 8 | U10: 7 | W10: 2 | X10: 3 | Y10: 2 | AA10: 1 | AB10: 1 | AC10: 4 | AD10: 3 | AR10: =SUM(B10:AQ10) -> 59
A11: 44507 | E11: 3 | H11: 2 | J11: 1 | M11: 2 | N11: 1 | R11: 3 | S11: 5 | U11: 3 | W11: 3 | X11: 3 | Y11: 2 | Z11: 1 | AA11: 4 | AB11: 2 | AD11: 1 | AR11: =SUM(B11:AQ11) -> 36
A12: 44511 | D12: 2 | E12: 3 | F12: 3 | J12: 1 | M12: 2 | R12: 3 | S12: 5 | U12: 2 | W12: 5 | X12: 3 | Y12: 3 | Z12: 2 | AA12: 2 | AC12: 2 | AD12: 2 | AF12: 1 | AG12: 2 | AO12: 6 | AR12: =SUM(B12:AQ12) -> 49
A13: 44513 | E13: 2 | N13: 2 | R13: 3 | S13: 2 | W13: 3 | X13: 3 | AA13: 2 | AC13: 3 | AR13: =SUM(B13:AQ13) -> 20
A14: 44514 | D14: 2 | E14: 1 | G14: 3 | H14: 1 | J14: 1 | N14: 1 | Q14: 5 | R14: 6 | S14: 4 | U14: 3 | W14: 4 | X14: 4 | Y14: 2 | AA14: 3 | AC14: 1 | AD14: 2 | AE14: 1 | AF14: 1 | AG14: 1 | AR14: =SUM(B14:AQ14) -> 46
A15: 44517 | G15: 1 | J15: 1 | N15: 2 | Q15: 2 | R15: 2 | S15: 4 | U15: 2 | W15: 3 | X15: 5 | Y15: 1 | Z15: 1 | AA15: 4 | AC15: 2 | AD15: 1 | AF15: 1 | AR15: =SUM(B15:AQ15) -> 32
A16: 44520 | D16: 2 | E16: 3 | F16: 3 | I16: 1 | J16: 3 | M16: 4 | N16: 3 | O16: 3 | P16: 3 | Q16: 7 | R16: 2 | S16: 3 | T16: 2 | U16: 8 | V16: 2 | W16: 4 | X16: 3 | Y16: 2 | Z16: 4 | AA16: 3 | AB16: 4 | AC16: 4 | AD16: 1 | AE16: 1 | AF16: 3 | AG16: 1 | AN16: 1 | AR16: =SUM(B16:AQ16) -> 80
A17: 44521 | D17: 2 | E17: 4 | G17: 4 | I17: 3 | M17: 1 | N17: 1 | O17: 3 | Q17: 3 | R17: 1 | S17: 5 | T17: 2 | U17: 4 | W17: 3 | X17: 4 | Z17: 4 | AA17: 4 | AB17: 4 | AC17: 2 | AD17: 2 | AE17: 1 | AF17: 3 | AN17: 1 | AR17: =SUM(B17:AQ17) -> 61
A18: 44524 | E18: 3 | F18: 3 | I18: 2 | J18: 1 | M18: 1 | N18: 3 | Q18: 4 | R18: 5 | S18: 4 | U18: 5 | V18: 2 | W18: 4 | X18: 4 | Y18: 4 | Z18: 2 | AA18: 3 | AB18: 2 | AC18: 1 | AD18: 3 | AR18: =SUM(B18:AQ18) -> 56
A19: 44525 | D19: 1 | J19: 1 | M19: 2 | N19: 3 | O19: 3 | Q19: 3 | R19: 3 | S19: 2 | U19: 3 | V19: 3 | W19: 2 | X19: 3 | Y19: 3 | AA19: 3 | AD19: 3 | AO19: 1 | AR19: =SUM(B19:AQ19) -> 39
A20: 44527 | D20: 3 | E20: 2 | H20: 2 | I20: 3 | J20: 1 | N20: 3 | Q20: 4 | R20: 4 | S20: 4 | U20: 4 | W20: 4 | X20: 2 | Y20: 3 | Z20: 2 | AA20: 1 | AB20: 3 | AC20: 2 | AD20: 3 | AF20: 2 | AG20: 3 | AM20: 1 | AR20: =SUM(B20:AQ20) -> 56
A21: 44528 | E21: 2 | G21: 2 | I21: 2 | M21: 2 | R21: 2 | S21: 2 | U21: 3 | V21: 1 | W21: 4 | X21: 5 | Y21: 3 | Z21: 3 | AP21: 1 | AR21: =SUM(B21:AQ21) -> 32
A22: 44531 | D22: 2 | E22: 2 | F22: 2 | J22: 1 | M22: 1 | N22: 1 | R22: 5 | S22: 3 | U22: 2 | V22: 2 | W22: 3 | X22: 5 | Y22: 2 | Z22: 1 | AA22: 4 | AB22: 3 | AC22: 2 | AD22: 4 | AE22: 3 | AF22: 1 | AG22: 1 | AQ22: 6 | AR22: =SUM(B22:AQ22) -> 56
A23: 44534 | B23: 2 | D23: 1 | E23: 7 | F23: 1 | I23: 1 | J23: 2 | M23: 2 | N23: 3 | R23: 6 | S23: 4 | U23: 6 | V23: 3 | W23: 4 | X23: 4 | Y23: 2 | Z23: 2 | AA23: 2 | AB23: 3 | AC23: 2 | AD23: 3 | AE23: 1 | AF23: 1 | AG23: 2 | AR23: =SUM(B23:AQ23) -> 64
A24: 44535 | E24: 1 | J24: 1 | N24: 1 | R24: 4 | S24: 4 | U24: 3 | V24: 1 | W24: 4 | X24: 3 | Y24: 1 | Z24: 1 | AA24: 2 | AB24: 2 | AD24: 2 | AF24: 2 | AR24: =SUM(B24:AQ24) -> 32
A25: 44538 | D25: 2 | E25: 4 | F25: 2 | I25: 2 | J25: 1 | N25: 2 | R25: 3 | S25: 4 | U25: 3 | V25: 2 | W25: 4 | X25: 5 | Y25: 4 | Z25: 2 | AA25: 2 | AB25: 3 | AC25: 1 | AD25: 3 | AF25: 2 | AG25: 3 | AP25: 2 | AQ25: 2 | AR25: =SUM(B25:AQ25) -> 58
A26: 44541 | B26: 4 | C26: 1 | D26: 3 | E26: 4 | F26: 3 | G26: 2 | H26: 2 | I26: 5 | J26: 2 | L26: 1 | M26: 1 | N26: 6 | P26: 1 | R26: 4 | S26: 4 | U26: 4 | V26: 1 | W26: 2 | X26: 1 | Y26: 2 | AA26: 4 | AB26: 5 | AC26: 2 | AD26: 3 | AE26: 2 | AF26: 2 | AP26: 1 | AQ26: 4 | AR26: =SUM(B26:AQ26) -> 76
A27: 44542 | D27: 3 | E27: 3 | F27: 4 | G27: 2 | J27: 2 | M27: 2 | N27: 2 | R27: 4 | S27: 4 | U27: 3 | W27: 4 | X27: 3 | Y27: 2 | Z27: 2 | AA27: 2 | AD27: 2 | AG27: 2 | AQ27: 1 | AR27: =SUM(B27:AQ27) -> 47
A28: 44545 | D28: 3 | E28: 2 | J28: 1 | K28: 1 | N28: 3 | R28: 3 | S28: 2 | U28: 4 | V28: 2 | W28: 3 | X28: 2 | Y28: 3 | Z28: 2 | AB28: 4 | AC28: 1 | AF28: 2 | AR28: =SUM(B28:AQ28) -> 38
A29: 44548 | B29: 1 | D29: 3 | E29: 4 | F29: 2 | G29: 3 | H29: 1 | I29: 2 | J29: 1 | K29: 2 | L29: 4 | M29: 4 | N29: 2 | O29: 2 | P29: 4 | R29: 6 | S29: 7 | U29: 4 | V29: 2 | W29: 6 | X29: 5 | Y29: 3 | Z29: 2 | AA29: 2 | AB29: 6 | AC29: 4 | AD29: 2 | AE29: 1 | AF29: 3 | AR29: =SUM(B29:AQ29) -> 88
A30: 44549 | D30: 1 | E30: 4 | F30: 3 | I30: 1 | N30: 2 | R30: 3 | S30: 3 | U30: 3 | W30: 3 | X30: 4 | Y30: 4 | Z30: 1 | AA30: 3 | AB30: 1 | AC30: 2 | AD30: 2 | AE30: 2 | AF30: 3 | AH30: 2 | AR30: =SUM(B30:AQ30) -> 47
A31: 44552 | E31: 3 | I31: 2 | N31: 1 | R31: 6 | S31: 2 | U31: 4 | W31: 4 | X31: 4 | Y31: 4 | AA31: 1 | AB31: 3 | AC31: 3 | AD31: 1 | AR31: =SUM(B31:AQ31) -> 38
A32: 44556 | D32: 2 | E32: 2 | R32: 2 | S32: 7 | U32: 4 | V32: 1 | W32: 3 | X32: 5 | Y32: 4 | AA32: 4 | AB32: 1 | AD32: 2 | AE32: 1 | AI32: 4 | AR32: =SUM(B32:AQ32) -> 42
A33: 44559 | N33: 3 | R33: 4 | S33: 5 | U33: 2 | W33: 3 | X33: 4 | Y33: 3 | AA33: 3 | AB33: 4 | AC33: 1 | AD33: 2 | AF33: 4 | AG33: 4 | AI33: 3 | AQ33: 2 | AR33: =SUM(B33:AQ33) -> 47
A34: 44562 | R34: 4 | S34: 7 | U34: 7 | V34: 2 | W34: 3 | X34: 2 | Y34: 5 | Z34: 3 | AA34: 4 | AB34: 5 | AC34: 1 | AD34: 5 | AE34: 2 | AG34: 2 | AI34: 3 | AP34: 1 | AR34: =SUM(B34:AQ34) -> 56
A35: 44563 | R35: 4 | S35: 4 | W35: 4 | X35: 6 | Y35: 1 | AA35: 4 | AB35: 4 | AC35: 5 | AD35: 4 | AE35: 3 | AI35: 1 | AP35: 3 | AR35: =SUM(B35:AQ35) -> 43
A36: 44566 | R36: 5 | S36: 2 | U36: 2 | W36: 3 | X36: 3 | Y36: 1 | AB36: 4 | AD36: 4 | AR36: =SUM(B36:AQ36) -> 24
A37: 44569 | D37: 3 | E37: 3 | J37: 1 | N37: 1 | R37: 8 | S37: 4 | U37: 3 | V37: 6 | W37: 6 | X37: 3 | Y37: 3 | Z37: 4 | AA37: 1 | AB37: 3 | AC37: 3 | AD37: 5 | AE37: 2 | AF37: 3 | AG37: 2 | AQ37: 2 | AR37: =SUM(B37:AQ37) -> 66
A38: 44570 | R38: 4 | S38: 3 | U38: 3 | V38: 1 | W38: 3 | X38: 5 | Y38: 1 | AA38: 3 | AB38: 3 | AC38: 2 | AD38: 3 | AI38: 2 | AQ38: 2 | AR38: =SUM(B38:AQ38) -> 35
A39: 44573 | J39: 1 | M39: 1 | R39: 3 | S39: 3 | U39: 2 | W39: 4 | X39: 3 | Z39: 2 | AA39: 5 | AB39: 2 | AC39: 2 | AD39: 1 | AE39: 1 | AQ39: 2 | AR39: =SUM(B39:AQ39) -> 32
A40: 44576 | E40: 2 | J40: 1 | M40: 4 | N40: 1 | R40: 6 | S40: 4 | U40: 2 | V40: 4 | W40: 4 | X40: 4 | Y40: 2 | Z40: 3 | AA40: 4 | AB40: 2 | AC40: 3 | AD40: 2 | AE40: 1 | AF40: 3 | AG40: 2 | AH40: 2 | AI40: 3 | AP40: 2 | AQ40: 3 | AR40: =SUM(B40:AQ40) -> 64
A41: 44577 | J41: 1 | R41: 2 | S41: 3 | U41: 7 | W41: 3 | X41: 8 | Y41: 2 | AA41: 3 | AB41: 3 | AD41: 2 | AG41: 2 | AI41: 3 | AQ41: 2 | AR41: =SUM(B41:AQ41) -> 41
A42: 44580 | D42: 1 | M42: 1 | R42: 3 | S42: 4 | U42: 3 | V42: 2 | W42: 3 | X42: 2 | Y42: 2 | Z42: 3 | AA42: 3 | AB42: 3 | AC42: 1 | AQ42: 2 | AR42: =SUM(B42:AQ42) -> 33
A43: 44583 | B43: 2 | C43: 1 | D43: 2 | E43: 5 | F43: 4 | G43: 1 | I43: 3 | J43: 1 | Q43: 4 | R43: 4 | S43: 5 | U43: 5 | W43: 3 | X43: 4 | Y43: 2 | AA43: 4 | AB43: 2 | AC43: 3 | AD43: 4 | AJ43: 3 | AK43: 4 | AO43: 1 | AR43: =SUM(B43:AQ43) -> 67
A44: 44584 | C44: 1 | D44: 7 | E44: 3 | F44: 3 | I44: 1 | J44: 1 | M44: 2 | Q44: 2 | R44: 4 | S44: 4 | U44: 2 | V44: 2 | W44: 3 | X44: 2 | Y44: 2 | AA44: 3 | AB44: 1 | AC44: 2 | AD44: 2 | AR44: =SUM(B44:AQ44) -> 47
A45: 44587 | C45: 1 | D45: 1 | E45: 2 | F45: 2 | I45: 1 | J45: 1 | Q45: 2 | R45: 5 | S45: 4 | U45: 4 | V45: 2 | W45: 3 | X45: 2 | AA45: 2 | AB45: 1 | AC45: 2 | AM45: 2 | AQ45: 2 | AR45: =SUM(B45:AQ45) -> 39
A46: 44590 | C46: 1 | D46: 4 | E46: 2 | F46: 3 | H46: 1 | I46: 1 | J46: 1 | K46: 1 | L46: 2 | M46: 2 | N46: 2 | Q46: 3 | R46: 3 | S46: 3 | T46: 5 | U46: 4 | V46: 4 | W46: 6 | X46: 4 | Y46: 3 | Z46: 1 | AA46: 2 | AB46: 4 | AC46: 1 | AD46: 1 | AE46: 3 | AR46: =SUM(B46:AQ46) -> 67
A47: 44591 | C47: 4 | E47: 2 | J47: 2 | K47: 1 | M47: 2 | Q47: 4 | R47: 3 | S47: 3 | U47: 4 | W47: 3 | X47: 6 | AR47: =SUM(B47:AQ47) -> 34
A48: BLIND NUMBER | B48: B1 | C48: B2 | D48: B3 | E48: B4 | F48: B5 | G48: C1 | H48: C2 | I48: C3 | J48: C4 | K48: F1 | L48: F2 | M48: H1 | N48: I1 | O48: J1 | P48: J2 | Q48: 01 | R48: 02 | S48: 03 | T48: 04 | U48: 12 | V48: 13 | W48: 14 | X48: 15 | Y48: 16 | Z48: 17 | AA48: 18 | AB48: 19 | AC48: 20 | AD48: 21 | AE48: 22 | AF48: 40 | AG48: 41 | AH48: 42 | AI48: 43 | AJ48: 44 | AK48: 45 | AL48: 46 | AM48: 47 | AN48: 48 | AO48: 50 | AP48: 60 | AQ48: 61
A49: TOTAL HUNTERS | B49: =SUM(B2:B47) -> 9 | C49: =SUM(C2:C47) -> 9 | D49: =SUM(D2:D47) -> 78 | E49: =SUM(E2:E47) -> 104 | F49: =SUM(F2:F47) -> 56 | G49: =SUM(G2:G47) -> 26 | H49: =SUM(H2:H47) -> 13 | I49: =SUM(I2:I47) -> 42 | ... AR49: =SUM(AR2:AR47) -> 2237
H51: Veteran and Active Service Members
H53: Youth Hunt Day
H55: No Goose Hunting

Sheet ==DUCK by BLIND==
A1: DATE | B1: B1 | C1: B2 | D1: B3 | E1: B4 | F1: B5 | G1: C1 | H1: C2 | I1: C3 | J1: C4 | K1: F1 | L1: F2 | M1: H1 | N1: I1 | O1: J1 | P1: J2 | Q1: 01 | R1: 02 | S1: 03 | T1: 04 | U1: 12 | V1: 13 | W1: 14 | X1: 15 | Y1: 16 | Z1: 17 | AA1: 18 | AB1: 19 | AC1: 20 | AD1: 21 | AE1: 22 | AF1: 40 | AG1: 41 | AH1: 42 | AI1: 43 | AJ1: 44 | AK1: 45 | AL1: 46 | AM1: 47 | AN1: 48 | AO1: 50 | AP1: 60 | AQ1: 61 | AR1: TOTAL
A2: ='==HUNTER by BLIND=='!A2 -> 44485 | D2: 12 | E2: 8 | F2: 11 | I2: 0 | M2: 7 | N2: 6 | O2: 0 | Q2: 4 | R2: 0 | S2: 4 | U2: 12 | V2: 4 | X2: 6 | Y2: 0 | AA2: 2 | AD2: 5 | AF2: 0 | AG2: 0 | AO2: 0 | AR2: =SUM(B2:AQ2) -> 81
A3: ='==HUNTER by BLIND=='!A3 -> 44486 | D3: 1 | E3: 0 | F3: 0 | J3: 0 | M3: 2 | N3: 0 | O3: 2 | P3: 0 | Q3: 7 | R3: 0 | S3: 10 | T3: 5 | U3: 5 | W3: 1 | X3: 0 | Y3: 3 | Z3: 0 | AD3: 2 | AN3: 0 | AR3: =SUM(B3:AQ3) -> 38
A4: ='==HUNTER by BLIND=='!A4 -> 44489 | D4: 1 | E4: 9 | F4: 3 | G4: 0 | I4: 6 | J4: 0 | L4: 1 | M4: 0 | N4: 3 | O4: 0 | P4: 6 | Q4: 1 | R4: 2 | S4: 21 | T4: 6 | U4: 5 | W4: 2 | X4: 2 | AC4: 2 | AR4: =SUM(B4:AQ4) -> 70
A5: ='==HUNTER by BLIND=='!A5 -> 44492 | D5: 1 | E5: 1 | F5: 3 | H5: 0 | I5: 1 | M5: 2 | N5: 0 | Q5: 0 | R5: 8 | S5: 28 | T5: 1 | U5: 2 | W5: 7 | X5: 9 | Y5: 2 | Z5: 0 | AA5: 3 | AD5: 1 | AI5: 0 | AR5: =SUM(B5:AQ5) -> 69
A6: ='==HUNTER by BLIND=='!A6 -> 44493 | D6: 3 | E6: 1 | F6: 2 | G6: 5 | M6: 0 | N6: 0 | Q6: 6 | R6: 0 | S6: 16 | U6: 1 | V6: 2 | W6: 11 | X6: 3 | Y6: 2 | Z6: 1 | AB6: 5 | AD6: 0 | AE6: 0 | AF6: 0 | AN6: 0 | AO6: 1 | AR6: =SUM(B6:AQ6) -> 59
A7: ='==HUNTER by BLIND=='!A7 -> 44496 | D7: 10 | E7: 2 | F7: 2 | G7: 0 | I7: 1 | J7: 0 | P7: 0 | Q7: 1 | R7: 23 | S7: 15 | U7: 28 | W7: 5 | X7: 2 | AA7: 3 | AD7: 1 | AR7: =SUM(B7:AQ7) -> 93
A8: ='==HUNTER by BLIND=='!A8 -> 44499 | D8: 3 | E8: 8 | F8: 0 | J8: 3 | Q8: 15 | R8: 12 | S8: 14 | U8: 4 | W8: 11 | X8: 1 | AA8: 2 | AD8: 1 | AL8: 0 | AO8: 0 | AR8: =SUM(B8:AQ8) -> 74
A9: ='==HUNTER by BLIND=='!A9 -> 44500 | D9: 2 | E9: 6 | H9: 11 | I9: 1 | J9: 0 | M9: 4 | Q9: 1 | R9: 10 | S9: 18 | U9: 9 | W9: 7 | X9: 5 | Y9: 13 | Z9: 0 | AD9: 11 | AN9: 0 | AR9: =SUM(B9:AQ9) -> 98
A10: ='==HUNTER by BLIND=='!A10 -> 44506 | D10: 2 | E10: 2 | F10: 1 | G10: 4 | H10: 7 | I10: 0 | J10: 0 | L10: 1 | M10: 7 | N10: 12 | O10: 0 | Q10: 1 | R10: 5 | S10: 37 | U10: 37 | W10: 11 | X10: 20 | Y10: 6 | AA10: 7 | AB10: 1 | AC10: 5 | AD10: 9 | AR10: =SUM(B10:AQ10) -> 175
A11: ='==HUNTER by BLIND=='!A11 -> 44507 | E11: 13 | H11: 5 | J11: 3 | M11: 3 | N11: 7 | R11: 13 | S11: 25 | U11: 15 | W11: 18 | X11: 11 | Y11: 5 | Z11: 1 | AA11: 22 | AB11: 0 | AD11: 5 | AR11: =SUM(B11:AQ11) -> 146
A12: ='==HUNTER by BLIND=='!A12 -> 44511 | D12: 2 | E12: 0 | F12: 3 | J12: 0 | M12: 0 | R12: 7 | S12: 35 | U12: 11 | W12: 16 | X12: 9 | Y12: 6 | Z12: 5 | AA12: 5 | AC12: 6 | AD12: 1 | AF12: 0 | AG12: 0 | AO12: 1 | AR12: =SUM(B12:AQ12) -> 107
A13: ='==HUNTER by BLIND=='!A13 -> 44513 | E13: 3 | N13: 1 | R13: 14 | S13: 8 | W13: 21 | X13: 14 | AA13: 4 | AC13: 7 | AR13: =SUM(B13:AQ13) -> 72
A14: ='==HUNTER by BLIND=='!A14 -> 44514 | D14: 2 | E14: 0 | G14: 1 | H14: 4 | J14: 0 | N14: 5 | Q14: 16 | R14: 10 | S14: 4 | U14: 8 | W14: 3 | X14: 10 | Y14: 0 | AA14: 7 | AC14: 0 | AD14: 0 | AE14: 0 | AF14: 2 | AG14: 2 | AR14: =SUM(B14:AQ14) -> 74
A15: ='==HUNTER by BLIND=='!A15 -> 44517 | G15: 1 | J15: 0 | N15: 3 | Q15: 8 | R15: 4 | S15: 28 | U15: 5 | W15: 21 | X15: 23 | Y15: 4 | Z15: 2 | AA15: 7 | AC15: 1 | AD15: 0 | AF15: 0 | AR15: =SUM(B15:AQ15) -> 107
A16: ='==HUNTER by BLIND=='!A16 -> 44520 | D16: 2 | E16: 3 | F16: 1 | I16: 4 | J16: 2 | M16: 2 | N16: 0 | O16: 1 | P16: 2 | Q16: 1 | R16: 14 | S16: 18 | T16: 4 | U16: 30 | V16: 0 | W16: 28 | X16: 14 | Y16: 2 | Z16: 5 | AA16: 0 | AB16: 5 | AC16: 2 | AD16: 1 | AE16: 4 | AF16: 0 | AG16: 0 | AN16: 0 | AR16: =SUM(B16:AQ16) -> 145
A17: ='==HUNTER by BLIND=='!A17 -> 44521 | D17: 2 | E17: 1 | G17: 3 | I17: 0 | M17: 2 | N17: 1 | O17: 0 | Q17: 10 | R17: 1 | S17: 10 | T17: 1 | U17: 11 | W17: 21 | X17: 12 | Z17: 2 | AA17: 0 | AB17: 2 | AC17: 0 | AD17: 3 | AE17: 1 | AF17: 0 | AN17: 0 | AR17: =SUM(B17:AQ17) -> 83
A18: ='==HUNTER by BLIND=='!A18 -> 44524 | E18: 5 | F18: 0 | I18: 0 | J18: 0 | M18: 3 | N18: 4 | Q18: 12 | R18: 7 | S18: 17 | U18: 10 | V18: 2 | W18: 12 | X18: 15 | Y18: 11 | Z18: 0 | AA18: 0 | AB18: 0 | AC18: 3 | AD18: 1 | AR18: =SUM(B18:AQ18) -> 102
A19: ='==HUNTER by BLIND=='!A19 -> 44525 | D19: 1 | J19: 0 | M19: 0 | N19: 0 | O19: 0 | Q19: 2 | R19: 8 | S19: 14 | U19: 12 | V19: 10 | W19: 7 | X19: 21 | Y19: 1 | AA19: 2 | AD19: 2 | AO19: 0 | AR19: =SUM(B19:AQ19) -> 80
A20: ='==HUNTER by BLIND=='!A20 -> 44527 | D20: 1 | E20: 0 | H20: 1 | I20: 2 | J20: 0 | N20: 0 | Q20: 0 | R20: 18 | S20: 25 | U20: 6 | W20: 24 | X20: 14 | Y20: 5 | Z20: 2 | AA20: 3 | AB20: 2 | AC20: 0 | AD20: 0 | AF20: 0 | AG20: 0 | AM20: 0 | AR20: =SUM(B20:AQ20) -> 103
A21: ='==HUNTER by BLIND=='!A21 -> 44528 | E21: 0 | G21: 2 | I21: 1 | M21: 0 | R21: 1 | S21: 13 | U21: 2 | V21: 0 | W21: 0 | X21: 5 | Y21: 2 | Z21: 0 | AP21: 0 | AR21: =SUM(B21:AQ21) -> 26
A22: ='==HUNTER by BLIND=='!A22 -> 44531 | D22: 2 | E22: 1 | F22: 2 | J22: 0 | M22: 2 | N22: 0 | R22: 29 | S22: 11 | U22: 12 | V22: 14 | W22: 21 | X22: 32 | Y22: 14 | Z22: 6 | AA22: 13 | AB22: 8 | AC22: 4 | AD22: 0 | AE22: 0 | AF22: 0 | AG22: 0 | AQ22: 0 | AR22: =SUM(B22:AQ22) -> 171
A23: ='==HUNTER by BLIND=='!A23 -> 44534 | B23: 0 | D23: 3 | E23: 6 | F23: 0 | I23: 2 | J23: 0 | M23: 0 | N23: 1 | R23: 21 | S23: 18 | U23: 21 | V23: 10 | W23: 24 | X23: 28 | Y23: 1 | Z23: 1 | AA23: 5 | AB23: 6 | AC23: 1 | AD23: 3 | AE23: 3 | AF23: 0 | AG23: 0 | AR23: =SUM(B23:AQ23) -> 154
A24: ='==HUNTER by BLIND=='!A24 -> 44535 | E24: 1 | J24: 0 | N24: 3 | R24: 15 | S24: 15 | U24: 18 | V24: 1 | W24: 14 | X24: 10 | Y24: 0 | Z24: 0 | AA24: 3 | AB24: 3 | AD24: 0 | AF24: 0 | AR24: =SUM(B24:AQ24) -> 83
A25: ='==HUNTER by BLIND=='!A25 -> 44538 | D25: 14 | E25: 28 | F25: 0 | I25: 14 | J25: 7 | N25: 14 | R25: 21 | S25: 25 | U25: 21 | V25: 0 | W25: 28 | X25: 35 | Y25: 4 | Z25: 0 | AA25: 2 | AB25: 2 | AC25: 4 | AD25: 0 | AF25: 0 | AG25: 0 | AP25: 0 | AQ25: 0 | AR25: =SUM(B25:AQ25) -> 219
A26: ='==HUNTER by BLIND=='!A26 -> 44541 | B26: 4 | C26: 1 | D26: 21 | E26: 5 | F26: 3 | G26: 2 | H26: 4 | I26: 2 | J26: 2 | L26: 4 | M26: 0 | N26: 0 | P26: 0 | R26: 28 | S26: 28 | U26: 21 | V26: 0 | W26: 4 | X26: 3 | Y26: 14 | AA26: 2 | AB26: 6 | AC26: 4 | AD26: 1 | AF26: 0 | AG26: 0 | AP26: 0 | AQ26: 0 | AR26: =SUM(B26:AQ26) -> 159
A27: ='==HUNTER by BLIND=='!A27 -> 44542 | D27: 0 | E27: 2 | F27: 6 | G27: 0 | J27: 4 | M27: 4 | N27: 1 | R27: 14 | S27: 7 | U27: 4 | W27: 5 | X27: 2 | Y27: 3 | Z27: 2 | AA27: 0 | AD27: 0 | AG27: 0 | AQ27: 0 | AR27: =SUM(B27:AQ27) -> 54
A28: ='==HUNTER by BLIND=='!A28 -> 44545 | D28: 0 | E28: 6 | J28: 0 | K28: 5 | N28: 0 | R28: 4 | S28: 4 | U28: 9 | V28: 1 | W28: 1 | X28: 3 | Y28: 0 | Z28: 3 | AA28: 1 | AC28: 0 | AF28: 0 | AR28: =SUM(B28:AQ28) -> 37
A29: ='==HUNTER by BLIND=='!A29 -> 44548 | B29: 4 | D29: 5 | E29: 6 | F29: 1 | G29: 1 | H29: 0 | I29: 0 | J29: 1 | K29: 0 | L29: 0 | M29: 0 | N29: 6 | O29: 3 | P29: 0 | R29: 9 | S29: 9 | U29: 23 | V29: 1 | W29: 13 | X29: 15 | Y29: 15 | Z29: 0 | AA29: 7 | AB29: 14 | AC29: 5 | AD29: 2 | AE29: 0 | AF29: 0 | AR29: =SUM(B29:AQ29) -> 140
A30: ='==HUNTER by BLIND=='!A30 -> 44549 | D30: 1 | E30: 0 | F30: 0 | I30: 2 | N30: 0 | R30: 3 | S30: 15 | U30: 1 | W30: 21 | X30: 2 | Y30: 1 | Z30: 0 | AA30: 21 | AB30: 0 | AC30: 0 | AD30: 0 | AE30: 2 | AF30: 0 | AH30: 0 | AR30: =SUM(B30:AQ30) -> 69
A31: ='==HUNTER by BLIND=='!A31 -> 44552 | E31: 1 | I31: 0 | N31: 0 | R31: 8 | S31: 8 | U31: 28 | W31: 4 | X31: 13 | Y31: 8 | AA31: 7 | AB31: 17 | AC31: 2 | AD31: 0 | AR31: =SUM(B31:AQ31) -> 96
A32: ='==HUNTER by BLIND=='!A32 -> 44556 | D32: 3 | E32: 14 | R32: 6 | S32: 43 | U32: 8 | V32: 2 | W32: 14 | X32: 26 | Y32: 1 | AA32: 22 | AB32: 7 | AD32: 0 | AE32: 0 | AI32: 0 | AR32: =SUM(B32:AQ32) -> 146
A33: ='==HUNTER by BLIND=='!A33 -> 44559 | N33: 7 | R33: 28 | S33: 31 | U33: 0 | W33: 7 | X33: 6 | Y33: 4 | AA33: 15 | AB33: 12 | AC33: 0 | AD33: 1 | AF33: 0 | AG33: 0 | AI33: 0 | AQ33: 0 | AR33: =SUM(B33:AQ33) -> 111
A34: ='==HUNTER by BLIND=='!A34 -> 44562 | R34: 23 | S34: 35 | U34: 1 | V34: 1 | W34: 2 | X34: 10 | Y34: 0 | Z34: 0 | AA34: 6 | AB34: 28 | AC34: 0 | AD34: 15 | AE34: 7 | AG34: 0 | AI34: 0 | AP34: 0 | AR34: =SUM(B34:AQ34) -> 128
A35: ='==HUNTER by BLIND=='!A35 -> 44563 | R35: 9 | S35: 28 | W35: 0 | X35: 3 | Y35: 0 | AA35: 0 | AB35: 1 | AC35: 10 | AD35: 1 | AE35: 0 | AI35: 0 | AP35: 0 | AR35: =SUM(B35:AQ35) -> 52
A36: ='==HUNTER by BLIND=='!A36 -> 44566 | R36: 28 | S36: 14 | U36: 0 | W36: 3 | X36: 9 | Y36: 0 | AB36: 1 | AD36: 3 | AR36: =SUM(B36:AQ36) -> 58
A37: ='==HUNTER by BLIND=='!A37 -> 44569 | D37: 0 | E37: 0 | J37: 0 | N37: 0 | R37: 41 | S37: 28 | U37: 4 | V37: 2 | W37: 9 | X37: 21 | Y37: 3 | Z37: 0 | AA37: 2 | AB37: 15 | AC37: 10 | AD37: 3 | AE37: 2 | AF37: 0 | AH37: 0 | AQ37: 0 | AR37: =SUM(B37:AQ37) -> 140
A38: ='==HUNTER by BLIND=='!A38 -> 44570 | R38: 18 | S38: 21 | U38: 2 | V38: 0 | W38: 11 | X38: 13 | Y38: 0 | AA38: 15 | AB38: 8 | AC38: 10 | AD38: 2 | AI38: 0 | AQ38: 0 | AR38: =SUM(B38:AQ38) -> 100
A39: ='==HUNTER by BLIND=='!A39 -> 44573 | J39: 0 | M39: 0 | R39: 2 | S39: 11 | U39: 0 | W39: 14 | X39: 7 | Z39: 1 | AA39: 4 | AB39: 5 | AC39: 0 | AD39: 0 | AE39: 1 | AQ39: 0 | AR39: =SUM(B39:AQ39) -> 45
A40: ='==HUNTER by BLIND=='!A40 -> 44576 | E40: 0 | J40: 7 | M40: 0 | N40: 0 | R40: 22 | S40: 28 | U40: 4 | V40: 0 | W40: 2 | X40: 11 | Y40: 4 | Z40: 0 | AA40: 2 | AB40: 4 | AC40: 1 | AD40: 0 | AE40: 0 | AF40: 0 | AG40: 0 | AH40: 0 | AI40: 0 | AP40: 0 | AQ40: 0 | AR40: =SUM(B40:AQ40) -> 85
A41: ='==HUNTER by BLIND=='!A41 -> 44577 | J41: 3 | R41: 3 | S41: 5 | U41: 0 | W41: 4 | X41: 8 | Y41: 1 | AA41: 2 | AB41: 3 | AD41: 3 | AG41: 0 | AI41: 0 | AQ41: 0 | AR41: =SUM(B41:AQ41) -> 32
A42: ='==HUNTER by BLIND=='!A42 -> 44580 | D42: 0 | M42: 0 | R42: 12 | S42: 28 | U42: 9 | V42: 1 | W42: 16 | X42: 14 | Y42: 0 | Z42: 0 | AA42: 7 | AB42: 15 | AC42: 2 | AQ42: 2 | AR42: =SUM(B42:AQ42) -> 106
A43: ='==HUNTER by BLIND=='!A43 -> 44583 | B43: 0 | C43: 4 | D43: 1 | E43: 26 | F43: 14 | G43: 5 | I43: 8 | J43: 1 | Q43: 2 | R43: 28 | S43: 35 | U43: 17 | W43: 7 | X43: 21 | Y43: 5 | AA43: 8 | AB43: 1 | AC43: 14 | AD43: 1 | AJ43: 0 | AK43: 0 | AO43: 0 | AR43: =SUM(B43:AQ43) -> 198
A44: ='==HUNTER by BLIND=='!A44 -> 44584 | C44: 3 | D44: 8 | E44: 5 | F44: 21 | I44: 1 | J44: 1 | M44: 4 | Q44: 0 | R44: 23 | S44: 17 | U44: 8 | V44: 2 | W44: 21 | X44: 7 | Y44: 2 | AA44: 1 | AB44: 2 | AC44: 4 | AD44: 0 | AR44: =SUM(B44:AQ44) -> 130
A45: ='==HUNTER by BLIND=='!A45 -> 44587 | C45: 2 | D45: 7 | E45: 6 | F45: 3 | I45: 0 | J45: 0 | Q45: 7 | R45: 0 | S45: 28 | U45: 16 | V45: 7 | W45: 14 | X45: 7 | AA45: 0 | AB45: 3 | AC45: 0 | AM45: 0 | AQ45: 0 | AR45: =SUM(B45:AQ45) -> 100
A46: ='==HUNTER by BLIND=='!A46 -> 44590 | C46: 1 | D46: 6 | E46: 8 | F46: 2 | H46: 0 | I46: 7 | J46: 5 | K46: 4 | L46: 0 | M46: 0 | N46: 1 | Q46: 10 | R46: 3 | S46: 8 | T46: 6 | U46: 12 | V46: 1 | W46: 0 | X46: 3 | Y46: 0 | Z46: 1 | AA46: 1 | AB46: 1 | AC46: 1 | AD46: 0 | AE46: 0 | AR46: =SUM(B46:AQ46) -> 81
A47: ='==HUNTER by BLIND=='!A47 -> 44591 | C47: 7 | E47: 2 | J47: 2 | K47: 5 | M47: 6 | Q47: 8 | R47: 2 | S47: 1 | U47: 19 | W47: 0 | X47: 14 | AR47: =SUM(B47:AQ47) -> 66
A48: BLIND NUMBER | B48: B1 | C48: B2 | D48: B3 | E48: B4 | F48: B5 | G48: C1 | H48: C2 | I48: C3 | J48: C4 | K48: F1 | L48: F2 | M48: H1 | N48: I1 | O48: J1 | P48: J2 | Q48: 01 | R48: 02 | S48: 03 | T48: 04 | U48: 12 | V48: 13 | W48: 14 | X48: 15 | Y48: 16 | Z48: 17 | AA48: 18 | AB48: 19 | AC48: 20 | AD48: 21 | AE48: 22 | AF48: 40 | AG48: 41 | AH48: 42 | AI48: 43 | AJ48: 44 | AK48: 45 | AL48: 46 | AM48: 47 | AN48: 48 | AO48: 50 | AP48: 60 | AQ48: 61
A49: TOTAL DUCKS | B49: =SUM(B2:B47) -> 8 | C49: =SUM(C2:C47) -> 18 | D49: =SUM(D2:D47) -> 116 | E49: =SUM(E2:E47) -> 179 | F49: =SUM(F2:F47) -> 78 | G49: =SUM(G2:G47) -> 24 | H49: =SUM(H2:H47) -> 32 | I49: =SUM(I2:I47) -> 52 | ... AR49: =SUM(AR2:AR47) -> 4562
A50: AVG DUCKS/HUNTER | B50: =B49/'==HUNTER by BLIND=='!B49 -> 0.88888889 | C50: =C49/'==HUNTER by BLIND=='!C49 -> 2 | D50: =D49/'==HUNTER by BLIND=='!D49 -> 1.4871795 | E50: =E49/'==HUNTER by BLIND=='!E49 -> 1.7211538 | F50: =F49/'==HUNTER by BLIND=='!F49 -> 1.3928571 | G50: =G49/'==HUNTER by BLIND=='!G49 -> 0.92307692 | H50: =H49/'==HUNTER by BLIND=='!H49 -> 2.4615385 | I50: =I49/'==HUNTER by BLIND=='!I49 -> 1.2380952 | ... AR50: =AR49/'==HUNTER by BLIND=='!AR49 -> 2.0393384
F52: Youth Hunt Day | M52: Veteran and Active Service Members

Sheet ==GOOSE by BLIND==
A1: DATE | B1: B1 | C1: B2 | D1: B3 | E1: B4 | F1: B5 | G1: C1 | H1: C2 | I1: C3 | J1: C4 | K1: F1 | L1: F2 | M1: H1 | N1: I1 | O1: J1 | P1: J2 | Q1: 01 | R1: 02 | S1: 03 | T1: 04 | U1: 12 | V1: 13 | W1: 14 | X1: 15 | Y1: 16 | Z1: 17 | AA1: 18 | AB1: 19 | AC1: 20 | AD1: 21 | AE1: 22 | AF1: 40 | AG1: 41 | AH1: 42 | AI1: 43 | AJ1: 44 | AK1: 45 | AL1: 46 | AM1: 47 | AN1: 48 | AO1: 50 | AP1: 60 | AQ1: 61 | AR1: TOTAL
A2: ='==HUNTER by BLIND=='!A2 -> 44485 | D2: 0 | E2: 0 | F2: 0 | I2: 0 | M2: 0 | N2: 0 | O2: 0 | Q2: 0 | R2: 0 | S2: 0 | U2: 0 | V2: 0 | X2: 2 | Y2: 0 | AA2: 0 | AD2: 0 | AF2: 2 | AG2: 0 | AR2: =SUM(B2:AQ2) -> 4
A3: ='==HUNTER by BLIND=='!A3 -> 44486 | D3: 0 | E3: 0 | F3: 0 | J3: 0 | M3: 0 | N3: 0 | O3: 0 | P3: 0 | Q3: 0 | R3: 0 | S3: 0 | T3: 0 | U3: 0 | W3: 0 | X3: 0 | Y3: 0 | Z3: 0 | AD3: 0 | AN3: 0 | AR3: =SUM(B3:AQ3) -> 0
A4: ='==HUNTER by BLIND=='!A4 -> 44489 | D4: 0 | E4: 0 | F4: 0 | G4: 0 | I4: 0 | J4: 0 | L4: 0 | M4: 0 | N4: 0 | O4: 0 | P4: 0 | Q4: 1 | R4: 0 | S4: 0 | T4: 0 | U4: 0 | W4: 0 | X4: 0 | AC4: 2 | AR4: =SUM(B4:AQ4) -> 3
A5: ='==HUNTER by BLIND=='!A5 -> 44492 | D5: 0 | E5: 0 | F5: 0 | H5: 0 | I5: 0 | M5: 0 | N5: 0 | Q5: 0 | R5: 0 | S5: 0 | T5: 0 | U5: 0 | W5: 0 | X5: 0 | Y5: 0 | Z5: 0 | AA5: 0 | AD5: 0 | AI5: 0 | AR5: =SUM(B5:AQ5) -> 0
A6: ='==HUNTER by BLIND=='!A6 -> 44493 | D6: 0 | E6: 0 | F6: 0 | G6: 0 | M6: 0 | N6: 0 | Q6: 0 | R6: 0 | S6: 0 | U6: 0 | V6: 0 | W6: 2 | X6: 0 | Y6: 0 | Z6: 0 | AB6: 0 | AD6: 0 | AE6: 0 | AF6: 0 | AN6: 0 | AO6: 0 | AR6: =SUM(B6:AQ6) -> 2
A7: ='==HUNTER by BLIND=='!A7 -> 44496 | D7: 0 | E7: 0 | F7: 1 | G7: 0 | I7: 0 | J7: 0 | P7: 0 | Q7: 3 | R7: 2 | S7: 0 | U7: 0 | W7: 1 | X7: 1 | AA7: 0 | AD7: 0 | AR7: =SUM(B7:AQ7) -> 8
A8: ='==HUNTER by BLIND=='!A8 -> 44499 | D8: 0 | E8: 0 | F8: 0 | J8: 0 | Q8: 0 | R8: 0 | S8: 0 | U8: 3 | W8: 0 | X8: 0 | AA8: 0 | AD8: 0 | AL8: 0 | AO8: 2 | AR8: =SUM(B8:AQ8) -> 5
A9: ='==HUNTER by BLIND=='!A9 -> 44500 | D9: 0 | E9: 0 | H9: 0 | I9: 0 | J9: 0 | M9: 0 | Q9: 1 | R9: 0 | S9: 0 | U9: 2 | W9: 1 | X9: 0 | Y9: 0 | Z9: 0 | AD9: 1 | AN9: 4 | AR9: =SUM(B9:AQ9) -> 9
A10: ='==HUNTER by BLIND=='!A10 -> 44506 | AR10: =SUM(B10:AQ10) -> 0
A11: ='==HUNTER by BLIND=='!A11 -> 44507 | AR11: =SUM(B11:AQ11) -> 0
A12: ='==HUNTER by BLIND=='!A12 -> 44511 | D12: 0 | E12: 0 | F12: 0 | J12: 0 | M12: 0 | R12: 0 | S12: 0 | U12: 0 | W12: 0 | X12: 0 | Y12: 0 | Z12: 0 | AA12: 0 | AC12: 0 | AD12: 0 | AF12: 0 | AG12: 0 | AO12: 0 | AR12: =SUM(B12:AQ12) -> 0
A13: ='==HUNTER by BLIND=='!A13 -> 44513 | E13: 0 | N13: 0 | R13: 0 | S13: 0 | W13: 0 | X13: 0 | AA13: 0 | AC13: 2 | AR13: =SUM(B13:AQ13) -> 2
A14: ='==HUNTER by BLIND=='!A14 -> 44514 | D14: 0 | E14: 0 | G14: 1 | H14: 0 | J14: 0 | N14: 1 | Q14: 0 | R14: 0 | S14: 0 | U14: 0 | W14: 1 | X14: 1 | Y14: 0 | AA14: 1 | AC14: 0 | AD14: 0 | AE14: 0 | AF14: 0 | AG14: 0 | AR14: =SUM(B14:AQ14) -> 5
A15: ='==HUNTER by BLIND=='!A15 -> 44517 | G15: 0 | J15: 0 | N15: 0 | Q15: 1 | R15: 0 | S15: 0 | U15: 0 | W15: 0 | X15: 0 | Y15: 0 | Z15: 0 | AA15: 0 | AC15: 0 | AD15: 0 | AF15: 1 | AR15: =SUM(B15:AQ15) -> 2
A16: ='==HUNTER by BLIND=='!A16 -> 44520 | D16: 0 | E16: 0 | F16: 0 | I16: 0 | J16: 0 | M16: 0 | N16: 0 | O16: 0 | P16: 0 | Q16: 0 | R16: 7 | S16: 0 | T16: 0 | U16: 1 | V16: 1 | W16: 7 | X16: 0 | Y16: 0 | Z16: 2 | AA16: 0 | AB16: 0 | AC16: 0 | AD16: 0 | AE16: 0 | AF16: 3 | AG16: 0 | AN16: 0 | AR16: =SUM(B16:AQ16) -> 21
A17: ='==HUNTER by BLIND=='!A17 -> 44521 | D17: 0 | E17: 0 | G17: 0 | I17: 2 | M17: 0 | N17: 0 | O17: 0 | Q17: 0 | R17: 1 | S17: 1 | T17: 0 | U17: 0 | W17: 0 | X17: 0 | Z17: 0 | AA17: 1 | AB17: 0 | AC17: 0 | AD17: 1 | AE17: 0 | AF17: 0 | AN17: 0 | AR17: =SUM(B17:AQ17) -> 6
A18: ='==HUNTER by BLIND=='!A18 -> 44524 | E18: 0 | F18: 0 | I18: 0 | J18: 0 | M18: 0 | N18: 0 | Q18: 0 | R18: 0 | S18: 2 | U18: 0 | V18: 0 | W18: 3 | X18: 1 | Y18: 0 | Z18: 0 | AA18: 0 | AB18: 0 | AC18: 0 | AD18: 0 | AR18: =SUM(B18:AQ18) -> 6
A19: ='==HUNTER by BLIND=='!A19 -> 44525 | D19: 0 | J19: 0 | M19: 0 | N19: 1 | O19: 0 | Q19: 0 | R19: 0 | S19: 2 | U19: 0 | V19: 0 | W19: 0 | X19: 0 | Y19: 1 | AA19: 1 | AD19: 0 | AO19: 0 | AR19: =SUM(B19:AQ19) -> 5
A20: ='==HUNTER by BLIND=='!A20 -> 44527 | D20: 0 | E20: 0 | H20: 0 | I20: 2 | J20: 0 | N20: 0 | Q20: 0 | R20: 0 | S20: 1 | U20: 0 | W20: 0 | X20: 2 | Y20: 0 | Z20: 0 | AA20: 0 | AB20: 0 | AC20: 0 | AD20: 0 | AF20: 0 | AG20: 0 | AM20: 0 | AR20: =SUM(B20:AQ20) -> 5
A21: ='==HUNTER by BLIND=='!A21 -> 44528 | E21: 0 | G21: 0 | M21: 0 | R21: 0 | S21: 0 | U21: 0 | V21: 1 | W21: 0 | X21: 2 | Y21: 0 | Z21: 0 | AP21: 0 | AR21: =SUM(B21:AQ21) -> 3
A22: ='==HUNTER by BLIND=='!A22 -> 44531 | D22: 0 | E22: 0 | F22: 0 | J22: 0 | M22: 0 | N22: 0 | R22: 0 | S22: 0 | U22: 0 | V22: 0 | W22: 0 | X22: 0 | Y22: 0 | Z22: 0 | AA22: 0 | AB22: 1 | AC22: 0 | AD22: 1 | AE22: 0 | AF22: 0 | AG22: 0 | AQ22: 0 | AR22: =SUM(B22:AQ22) -> 2
A23: ='==HUNTER by BLIND=='!A23 -> 44534 | B23: 0 | D23: 0 | E23: 0 | F23: 1 | I23: 0 | J23: 0 | M23: 0 | N23: 0 | R23: 0 | S23: 0 | U23: 0 | V23: 0 | W23: 0 | X23: 0 | Y23: 0 | Z23: 0 | AA23: 0 | AB23: 0 | AC23: 1 | AD23: 0 | AE23: 0 | AF23: 0 | AG23: 1 | AR23: =SUM(B23:AQ23) -> 3
A24: ='==HUNTER by BLIND=='!A24 -> 44535 | E24: 0 | J24: 0 | N24: 1 | R24: 1 | S24: 0 | U24: 0 | V24: 1 | W24: 1 | X24: 1 | Y24: 0 | Z24: 0 | AA24: 0 | AB24: 0 | AD24: 0 | AF24: 0 | AR24: =SUM(B24:AQ24) -> 5
A25: ='==HUNTER by BLIND=='!A25 -> 44538 | D25: 1 | E25: 1 | F25: 0 | I25: 2 | J25: 0 | N25: 0 | R25: 2 | S25: 8 | U25: 0 | V25: 0 | W25: 0 | X25: 2 | Y25: 0 | Z25: 0 | AA25: 0 | AB25: 3 | AC25: 2 | AD25: 0 | AF25: 0 | AG25: 0 | AP25: 0 | AQ25: 33 | AR25: =SUM(B25:AQ25) -> 54
A26: ='==HUNTER by BLIND=='!A26 -> 44541 | B26: 0 | C26: 0 | D26: 2 | E26: 1 | F26: 2 | G26: 0 | H26: 2 | I26: 0 | J26: 0 | K26: 0 | L26: 0 | M26: 0 | N26: 1 | P26: 0 | R26: 0 | S26: 0 | U26: 0 | V26: 0 | W26: 0 | X26: 0 | Y26: 0 | AA26: 0 | AB26: 0 | AC26: 0 | AD26: 0 | AF26: 1 | AG26: 4 | AP26: 4 | AQ26: 10 | AR26: =SUM(B26:AQ26) -> 27
A27: ='==HUNTER by BLIND=='!A27 -> 44542 | D27: 0 | E27: 0 | F27: 0 | G27: 0 | J27: 0 | M27: 0 | N27: 0 | R27: 0 | S27: 0 | U27: 0 | W27: 0 | X27: 0 | Y27: 0 | Z27: 1 | AA27: 0 | AD27: 0 | AG27: 0 | AQ27: 0 | AR27: =SUM(B27:AQ27) -> 1
A28: ='==HUNTER by BLIND=='!A28 -> 44545 | D28: 0 | E28: 0 | J28: 0 | K28: 0 | N28: 0 | R28: 0 | S28: 0 | U28: 0 | V28: 0 | W28: 0 | X28: 1 | Y28: 0 | Z28: 0 | AA28: 2 | AC28: 0 | AF28: 1 | AR28: =SUM(B28:AQ28) -> 4
A29: ='==HUNTER by BLIND=='!A29 -> 44548 | B29: 0 | D29: 1 | E29: 0 | F29: 0 | G29: 0 | H29: 0 | I29: 0 | J29: 0 | K29: 0 | L29: 0 | M29: 0 | N29: 0 | O29: 0 | P29: 0 | R29: 0 | S29: 1 | U29: 8 | V29: 0 | W29: 0 | X29: 2 | Y29: 1 | Z29: 0 | AA29: 0 | AB29: 0 | AC29: 0 | AD29: 0 | AE29: 0 | AF29: 0 | AR29: =SUM(B29:AQ29) -> 13
A30: ='==HUNTER by BLIND=='!A30 -> 44549 | D30: 0 | E30: 0 | F30: 0 | I30: 0 | N30: 0 | R30: 0 | S30: 0 | U30: 0 | W30: 2 | X30: 0 | Y30: 0 | Z30: 0 | AA30: 0 | AB30: 0 | AC30: 0 | AD30: 0 | AE30: 0 | AF30: 0 | AH30: 0 | AR30: =SUM(B30:AQ30) -> 2
A31: ='==HUNTER by BLIND=='!A31 -> 44552 | E31: 0 | I31: 0 | N31: 0 | R31: 0 | S31: 0 | U31: 2 | W31: 0 | X31: 0 | Y31: 0 | AA31: 0 | AB31: 0 | AC31: 1 | AD31: 0 | AR31: =SUM(B31:AQ31) -> 3
A32: ='==HUNTER by BLIND=='!A32 -> 44556 | D32: 4 | E32: 0 | R32: 1 | S32: 1 | U32: 0 | V32: 0 | W32: 0 | X32: 4 | Y32: 0 | AA32: 0 | AB32: 0 | AD32: 0 | AE32: 0 | AI32: 0 | AR32: =SUM(B32:AQ32) -> 10
A33: ='==HUNTER by BLIND=='!A33 -> 44559 | N33: 1 | R33: 0 | S33: 0 | U33: 1 | W33: 0 | X33: 0 | Y33: 1 | AA33: 0 | AB33: 0 | AC33: 0 | AD33: 0 | AF33: 0 | AG33: 0 | AI33: 1 | AQ33: 9 | AR33: =SUM(B33:AQ33) -> 13
A34: ='==HUNTER by BLIND=='!A34 -> 44562 | R34: 1 | S34: 7 | U34: 0 | V34: 3 | W34: 0 | X34: 2 | Y34: 0 | Z34: 0 | AA34: 0 | AB34: 0 | AC34: 0 | AD34: 0 | AE34: 0 | AG34: 1 | AI34: 0 | AP34: 7 | AR34: =SUM(B34:AQ34) -> 21
A35: ='==HUNTER by BLIND=='!A35 -> 44563 | R35: 0 | S35: 2 | W35: 0 | X35: 1 | Y35: 0 | AA35: 0 | AB35: 0 | AC35: 1 | AD35: 0 | AE35: 0 | AI35: 0 | AP35: 2 | AR35: =SUM(B35:AQ35) -> 6
A36: ='==HUNTER by BLIND=='!A36 -> 44566 | R36: 0 | S36: 0 | U36: 0 | W36: 3 | X36: 2 | Y36: 0 | AB36: 0 | AD36: 1 | AR36: =SUM(B36:AQ36) -> 6
A37: ='==HUNTER by BLIND=='!A37 -> 44569 | D37: 0 | E37: 0 | J37: 0 | N37: 0 | R37: 0 | S37: 3 | U37: 0 | V37: 0 | W37: 0 | X37: 0 | Y37: 0 | Z37: 0 | AA37: 1 | AB37: 0 | AC37: 0 | AD37: 0 | AE37: 0 | AF37: 2 | AH37: 2 | AQ37: 2 | AR37: =SUM(B37:AQ37) -> 10
A38: ='==HUNTER by BLIND=='!A38 -> 44570 | R38: 2 | S38: 0 | U38: 0 | V38: 0 | W38: 8 | X38: 3 | Y38: 0 | AA38: 0 | AB38: 0 | AC38: 0 | AD38: 0 | AI38: 0 | AQ38: 0 | AR38: =SUM(B38:AQ38) -> 13
A39: ='==HUNTER by BLIND=='!A39 -> 44573 | J39: 0 | M39: 0 | R39: 0 | S39: 0 | U39: 1 | W39: 1 | X39: 1 | Z39: 0 | AA39: 1 | AB39: 0 | AC39: 0 | AD39: 0 | AE39: 0 | AQ39: 3 | AR39: =SUM(B39:AQ39) -> 7
A40: ='==HUNTER by BLIND=='!A40 -> 44576 | E40: 0 | J40: 2 | M40: 0 | N40: 0 | R40: 0 | S40: 1 | U40: 0 | V40: 0 | W40: 0 | X40: 0 | Y40: 0 | Z40: 0 | AA40: 0 | AB40: 0 | AC40: 0 | AD40: 0 | AE40: 0 | AF40: 1 | AG40: 0 | AH40: 1 | AI40: 4 | AP40: 0 | AQ40: 2 | AR40: =SUM(B40:AQ40) -> 11
A41: ='==HUNTER by BLIND=='!A41 -> 44577 | J41: 0 | R41: 0 | S41: 0 | U41: 1 | W41: 3 | X41: 3 | Y41: 0 | AA41: 0 | AB41: 0 | AD41: 0 | AG41: 2 | AI41: 0 | AQ41: 0 | AR41: =SUM(B41:AQ41) -> 9
A42: ='==HUNTER by BLIND=='!A42 -> 44580 | D42: 0 | M42: 0 | R42: 3 | S42: 2 | U42: 2 | V42: 0 | W42: 4 | X42: 0 | Y42: 0 | Z42: 0 | AA42: 0 | AB42: 0 | AC42: 0 | AQ42: 8 | AR42: =SUM(B42:AQ42) -> 19
A43: ='==HUNTER by BLIND=='!A43 -> 44583 | B43: 0 | C43: 0 | D43: 0 | E43: 2 | F43: 0 | G43: 0 | I43: 0 | J43: 0 | Q43: 1 | R43: 3 | S43: 6 | U43: 0 | W43: 1 | X43: 0 | Y43: 0 | AA43: 1 | AB43: 4 | AC43: 3 | AD43: 0 | AJ43: 1 | AK43: 6 | AO43: 0 | AR43: =SUM(B43:AQ43) -> 28
A44: ='==HUNTER by BLIND=='!A44 -> 44584 | C44: 0 | D44: 0 | E44: 0 | F44: 0 | I44: 0 | J44: 0 | M44: 0 | Q44: 0 | R44: 0 | S44: 0 | U44: 0 | V44: 0 | W44: 1 | X44: 1 | Y44: 2 | AA44: 0 | AB44: 0 | AC44: 0 | AD44: 0 | AR44: =SUM(B44:AQ44) -> 4
A45: ='==HUNTER by BLIND=='!A45 -> 44587 | C45: 0 | D45: 0 | E45: 0 | F45: 0 | I45: 0 | J45: 0 | Q45: 0 | R45: 0 | S45: 0 | U45: 0 | V45: 0 | W45: 0 | X45: 1 | AA45: 0 | AB45: 0 | AC45: 0 | AM45: 0 | AQ45: 0 | AR45: =SUM(B45:AQ45) -> 1
A46: ='==HUNTER by BLIND=='!A46 -> 44590 | C46: 0 | D46: 1 | E46: 0 | F46: 1 | H46: 0 | I46: 1 | J46: 0 | K46: 0 | L46: 0 | M46: 0 | N46: 1 | Q46: 0 | R46: 3 | S46: 0 | T46: 1 | U46: 0 | V46: 0 | W46: 1 | X46: 0 | Y46: 0 | Z46: 0 | AA46: 0 | AB46: 0 | AC46: 0 | AD46: 0 | AE46: 0 | AR46: =SUM(B46:AQ46) -> 9
A47: ='==HUNTER by BLIND=='!A47 -> 44591 | C47: 0 | E47: 0 | J47: 0 | K47: 0 | M47: 0 | Q47: 2 | R47: 0 | S47: 0 | U47: 0 | W47: 0 | X47: 3 | AR47: =SUM(B47:AQ47) -> 5
A48: BLIND NUMBER | B48: B1 | C48: B2 | D48: B3 | E48: B4 | F48: B5 | G48: C1 | H48: C2 | I48: C3 | J48: C4 | K48: F1 | L48: F2 | M48: H1 | N48: I1 | O48: J1 | P48: J2 | Q48: 01 | R48: 02 | S48: 03 | T48: 04 | U48: 12 | V48: 13 | W48: 14 | X48: 15 | Y48: 16 | Z48: 17 | AA48: 18 | AB48: 19 | AC48: 20 | AD48: 21 | AE48: 22 | AF48: 40 | AG48: 41 | AH48: 42 | AI48: 43 | AJ48: 44 | AK48: 45 | AL48: 46 | AM48: 47 | AN48: 48 | AO48: 50 | AP48: 60 | AQ48: 61
A49: TOTAL GEESE | B49: =SUM(B2:B47) -> 0 | C49: =SUM(C2:C47) -> 0 | D49: =SUM(D2:D47) -> 9 | E49: =SUM(E2:E47) -> 4 | F49: =SUM(F2:F47) -> 5 | G49: =SUM(G2:G47) -> 1 | H49: =SUM(H2:H47) -> 2 | I49: =SUM(I2:I47) -> 7 | ... AR49: =SUM(AR2:AR47) -> 372
A50: AVG GEESE/HUNTER | B50: =B49/'==HUNTER by BLIND=='!B49 -> 0 | C50: =C49/'==HUNTER by BLIND=='!C49 -> 0 | D50: =D49/'==HUNTER by BLIND=='!D49 -> 0.11538462 | E50: =E49/'==HUNTER by BLIND=='!E49 -> 0.038461538 | F50: =F49/'==HUNTER by BLIND=='!F49 -> 0.089285714 | G50: =G49/'==HUNTER by BLIND=='!G49 -> 0.038461538 | H50: =H49/'==HUNTER by BLIND=='!H49 -> 0.15384615 | I50: =I49/'==HUNTER by BLIND=='!I49 -> 0.16666667 | ... AR50: =AR49/'==HUNTER by BLIND=='!AR49 -> 0.16629414
P52: Veteran and Active Service Members
P54: Youth Hunt Day
P56: Closed To Goose Hunting

Sheet TOTAL DUCK SUMM
A1: DATE | B1: # DUCKS | C1: # HUNTERS | D1: DUCKS/HUNTER
A2: ='==HUNTER by BLIND=='!A2 -> 44485 | B2: =SUM('==DUCK by BLIND=='!B2:AQ2) -> 81 | C2: =SUM('==HUNTER by BLIND=='!B2:AQ2) -> 71 | D2: =B2/C2 -> 1.1408451
A3: ='==HUNTER by BLIND=='!A3 -> 44486 | B3: =SUM('==DUCK by BLIND=='!B3:AQ3) -> 38 | C3: =SUM('==HUNTER by BLIND=='!B3:AQ3) -> 58 | D3: =B3/C3 -> 0.65517241
A4: ='==HUNTER by BLIND=='!A4 -> 44489 | B4: =SUM('==DUCK by BLIND=='!B4:AQ4) -> 70 | C4: =SUM('==HUNTER by BLIND=='!B4:AQ4) -> 48 | D4: =B4/C4 -> 1.4583333
A5: ='==HUNTER by BLIND=='!A5 -> 44492 | B5: =SUM('==DUCK by BLIND=='!B5:AQ5) -> 69 | C5: =SUM('==HUNTER by BLIND=='!B5:AQ5) -> 52 | D5: =B5/C5 -> 1.3269231
A6: ='==HUNTER by BLIND=='!A6 -> 44493 | B6: =SUM('==DUCK by BLIND=='!B6:AQ6) -> 59 | C6: =SUM('==HUNTER by BLIND=='!B6:AQ6) -> 50 | D6: =B6/C6 -> 1.18
A7: ='==HUNTER by BLIND=='!A7 -> 44496 | B7: =SUM('==DUCK by BLIND=='!B7:AQ7) -> 93 | C7: =SUM('==HUNTER by BLIND=='!B7:AQ7) -> 33 | D7: =B7/C7 -> 2.8181818
A8: ='==HUNTER by BLIND=='!A8 -> 44499 | B8: =SUM('==DUCK by BLIND=='!B8:AQ8) -> 74 | C8: =SUM('==HUNTER by BLIND=='!B8:AQ8) -> 36 | D8: =B8/C8 -> 2.0555556
A9: ='==HUNTER by BLIND=='!A9 -> 44500 | B9: =SUM('==DUCK by BLIND=='!B9:AQ9) -> 98 | C9: =SUM('==HUNTER by BLIND=='!B9:AQ9) -> 42 | D9: =B9/C9 -> 2.3333333
A10: ='==HUNTER by BLIND=='!A10 -> 44506 | B10: =SUM('==DUCK by BLIND=='!B10:AQ10) -> 175 | C10: =SUM('==HUNTER by BLIND=='!B10:AQ10) -> 59 | D10: =B10/C10 -> 2.9661017
A11: ='==HUNTER by BLIND=='!A11 -> 44507 | B11: =SUM('==DUCK by BLIND=='!B11:AQ11) -> 146 | C11: =SUM('==HUNTER by BLIND=='!B11:AQ11) -> 36 | D11: =B11/C11 -> 4.0555556
A12: ='==HUNTER by BLIND=='!A12 -> 44511 | B12: =SUM('==DUCK by BLIND=='!B12:AQ12) -> 107 | C12: =SUM('==HUNTER by BLIND=='!B12:AQ12) -> 49 | D12: =B12/C12 -> 2.1836735
A13: ='==HUNTER by BLIND=='!A13 -> 44513 | B13: =SUM('==DUCK by BLIND=='!B13:AQ13) -> 72 | C13: =SUM('==HUNTER by BLIND=='!B13:AQ13) -> 20 | D13: =B13/C13 -> 3.6
A14: ='==HUNTER by BLIND=='!A14 -> 44514 | B14: =SUM('==DUCK by BLIND=='!B14:AQ14) -> 74 | C14: =SUM('==HUNTER by BLIND=='!B14:AQ14) -> 46 | D14: =B14/C14 -> 1.6086957
A15: ='==HUNTER by BLIND=='!A15 -> 44517 | B15: =SUM('==DUCK by BLIND=='!B15:AQ15) -> 107 | C15: =SUM('==HUNTER by BLIND=='!C15:AQ15) -> 32 | D15: =B15/C15 -> 3.34375
A16: ='==HUNTER by BLIND=='!A16 -> 44520 | B16: =SUM('==DUCK by BLIND=='!B16:AQ16) -> 145 | C16: =SUM('==HUNTER by BLIND=='!B16:AQ16) -> 80 | D16: =B16/C16 -> 1.8125
A17: ='==HUNTER by BLIND=='!A17 -> 44521 | B17: =SUM('==DUCK by BLIND=='!B17:AQ17) -> 83 | C17: =SUM('==HUNTER by BLIND=='!B17:AQ17) -> 61 | D17: =B17/C17 -> 1.3606557
A18: ='==HUNTER by BLIND=='!A18 -> 44524 | B18: =SUM('==DUCK by BLIND=='!B18:AQ18) -> 102 | C18: =SUM('==HUNTER by BLIND=='!B18:AQ18) -> 56 | D18: =B18/C18 -> 1.8214286
A19: ='==HUNTER by BLIND=='!A19 -> 44525 | B19: =SUM('==DUCK by BLIND=='!B19:AQ19) -> 80 | C19: =SUM('==HUNTER by BLIND=='!B19:AQ19) -> 39 | D19: =B19/C19 -> 2.0512821
A20: ='==HUNTER by BLIND=='!A20 -> 44527 | B20: =SUM('==DUCK by BLIND=='!B20:AQ20) -> 103 | C20: =SUM('==HUNTER by BLIND=='!B20:AQ20) -> 56 | D20: =B20/C20 -> 1.8392857
A21: ='==HUNTER by BLIND=='!A21 -> 44528 | B21: =SUM('==DUCK by BLIND=='!B21:AQ21) -> 26 | C21: =SUM('==HUNTER by BLIND=='!B21:AQ21) -> 32 | D21: =B21/C21 -> 0.8125
A22: ='==HUNTER by BLIND=='!A22 -> 44531 | B22: =SUM('==DUCK by BLIND=='!B22:AQ22) -> 171 | C22: =SUM('==HUNTER by BLIND=='!B22:AQ22) -> 56 | D22: =B22/C22 -> 3.0535714
A23: ='==HUNTER by BLIND=='!A23 -> 44534 | B23: =SUM('==DUCK by BLIND=='!B23:AQ23) -> 154 | C23: =SUM('==HUNTER by BLIND=='!B23:AQ23) -> 64 | D23: =B23/C23 -> 2.40625
A24: ='==HUNTER by BLIND=='!A24 -> 44535 | B24: =SUM('==DUCK by BLIND=='!B24:AQ24) -> 83 | C24: =SUM('==HUNTER by BLIND=='!B24:AQ24) -> 32 | D24: =B24/C24 -> 2.59375
A25: ='==HUNTER by BLIND=='!A25 -> 44538 | B25: =SUM('==DUCK by BLIND=='!B25:AQ25) -> 219 | C25: =SUM('==HUNTER by BLIND=='!B25:AQ25) -> 58 | D25: =B25/C25 -> 3.7758621
A26: ='==HUNTER by BLIND=='!A26 -> 44541 | B26: =SUM('==DUCK by BLIND=='!B26:AQ26) -> 159 | C26: =SUM('==HUNTER by BLIND=='!B26:AQ26) -> 76 | D26: =B26/C26 -> 2.0921053
A27: ='==HUNTER by BLIND=='!A27 -> 44542 | B27: =SUM('==DUCK by BLIND=='!B27:AQ27) -> 54 | C27: =SUM('==HUNTER by BLIND=='!B27:AQ27) -> 47 | D27: =B27/C27 -> 1.1489362
... A47: ='==HUNTER by BLIND=='!A47 -> 44591 | B47: =SUM('==DUCK by BLIND=='!B47:AQ47) -> 66 | C47: =SUM('==HUNTER by BLIND=='!B47:AQ47) -> 34 | D47: =B47/C47 -> 1.9411765
A48: TOTALS | B48: =SUM(B2:B47) -> 4562 | C48: =SUM(C2:C47) -> 2237 | D48: =B48/C48 -> 2.0393384
B50: Youth Hunt Day
B52: Veteran and Active Service Members

Sheet TOTAL GOOSE SUMM
A1: DATE | B1: # GEESE | C1: # HUNTERS | D1: GEESE/HUNTER
A2: ='==HUNTER by BLIND=='!A2 -> 44485 | B2: =SUM('==GOOSE by BLIND=='!B2:AQ2) -> 4 | C2: =SUM('==HUNTER by BLIND=='!B2:AQ2) -> 71 | D2: =B2/C2 -> 0.056338028
A3: ='==HUNTER by BLIND=='!A3 -> 44486 | B3: =SUM('==GOOSE by BLIND=='!B3:AQ3) -> 0 | C3: =SUM('==HUNTER by BLIND=='!B3:AQ3) -> 58 | D3: =B3/C3 -> 0
A4: ='==HUNTER by BLIND=='!A4 -> 44489 | B4: =SUM('==GOOSE by BLIND=='!B4:AQ4) -> 3 | C4: =SUM('==HUNTER by BLIND=='!B4:AQ4) -> 48 | D4: =B4/C4 -> 0.0625
A5: ='==HUNTER by BLIND=='!A5 -> 44492 | B5: =SUM('==GOOSE by BLIND=='!B5:AQ5) -> 0 | C5: =SUM('==HUNTER by BLIND=='!B5:AQ5) -> 52 | D5: =B5/C5 -> 0
A6: ='==HUNTER by BLIND=='!A6 -> 44493 | B6: =SUM('==GOOSE by BLIND=='!B6:AQ6) -> 2 | C6: =SUM('==HUNTER by BLIND=='!B6:AQ6) -> 50 | D6: =B6/C6 -> 0.04
A7: ='==HUNTER by BLIND=='!A7 -> 44496 | B7: =SUM('==GOOSE by BLIND=='!B7:AQ7) -> 8 | C7: =SUM('==HUNTER by BLIND=='!B7:AQ7) -> 33 | D7: =B7/C7 -> 0.24242424
A8: ='==HUNTER by BLIND=='!A8 -> 44499 | B8: =SUM('==GOOSE by BLIND=='!B8:AQ8) -> 5 | C8: =SUM('==HUNTER by BLIND=='!B8:AQ8) -> 36 | D8: =B8/C8 -> 0.13888889
A9: ='==HUNTER by BLIND=='!A9 -> 44500 | B9: =SUM('==GOOSE by BLIND=='!B9:AQ9) -> 9 | C9: =SUM('==HUNTER by BLIND=='!B9:AQ9) -> 42 | D9: =B9/C9 -> 0.21428571
A10: ='==HUNTER by BLIND=='!A10 -> 44506 | B10: =SUM('==GOOSE by BLIND=='!B10:AQ10) -> 0 | C10: =SUM('==HUNTER by BLIND=='!B10:AQ10) -> 59 | D10: =B10/C10 -> 0
A11: ='==HUNTER by BLIND=='!A11 -> 44507 | B11: =SUM('==GOOSE by BLIND=='!B11:AQ11) -> 0 | C11: =SUM('==HUNTER by BLIND=='!B11:AQ11) -> 36 | D11: =B11/C11 -> 0
A12: ='==HUNTER by BLIND=='!A12 -> 44511 | B12: =SUM('==GOOSE by BLIND=='!B12:AQ12) -> 0 | C12: =SUM('==HUNTER by BLIND=='!B12:AQ12) -> 49 | D12: =B12/C12 -> 0
A13: ='==HUNTER by BLIND=='!A13 -> 44513 | B13: =SUM('==GOOSE by BLIND=='!B13:AQ13) -> 2 | C13: =SUM('==HUNTER by BLIND=='!B13:AQ13) -> 20 | D13: =B13/C13 -> 0.1
A14: ='==HUNTER by BLIND=='!A14 -> 44514 | B14: =SUM('==GOOSE by BLIND=='!B14:AQ14) -> 5 | C14: =SUM('==HUNTER by BLIND=='!B14:AQ14) -> 46 | D14: =B14/C14 -> 0.10869565
A15: ='==HUNTER by BLIND=='!A15 -> 44517 | B15: =SUM('==GOOSE by BLIND=='!B15:AQ15) -> 2 | C15: =SUM('==HUNTER by BLIND=='!C15:AQ15) -> 32 | D15: =B15/C15 -> 0.0625
A16: ='==HUNTER by BLIND=='!A16 -> 44520 | B16: =SUM('==GOOSE by BLIND=='!B16:AQ16) -> 21 | C16: =SUM('==HUNTER by BLIND=='!B16:AQ16) -> 80 | D16: =B16/C16 -> 0.2625
A17: ='==HUNTER by BLIND=='!A17 -> 44521 | B17: =SUM('==GOOSE by BLIND=='!B17:AQ17) -> 6 | C17: =SUM('==HUNTER by BLIND=='!B17:AQ17) -> 61 | D17: =B17/C17 -> 0.098360656
A18: ='==HUNTER by BLIND=='!A18 -> 44524 | B18: =SUM('==GOOSE by BLIND=='!B18:AQ18) -> 6 | C18: =SUM('==HUNTER by BLIND=='!B18:AQ18) -> 56 | D18: =B18/C18 -> 0.10714286
A19: ='==HUNTER by BLIND=='!A19 -> 44525 | B19: =SUM('==GOOSE by BLIND=='!B19:AQ19) -> 5 | C19: =SUM('==HUNTER by BLIND=='!B19:AQ19) -> 39 | D19: =B19/C19 -> 0.12820513
A20: ='==HUNTER by BLIND=='!A20 -> 44527 | B20: =SUM('==GOOSE by BLIND=='!B20:AQ20) -> 5 | C20: =SUM('==HUNTER by BLIND=='!B20:AQ20) -> 56 | D20: =B20/C20 -> 0.089285714
A21: ='==HUNTER by BLIND=='!A21 -> 44528 | B21: =SUM('==GOOSE by BLIND=='!B21:AQ21) -> 3 | C21: =SUM('==HUNTER by BLIND=='!B21:AQ21) -> 32 | D21: =B21/C21 -> 0.09375
A22: ='==HUNTER by BLIND=='!A22 -> 44531 | B22: =SUM('==GOOSE by BLIND=='!B22:AQ22) -> 2 | C22: =SUM('==HUNTER by BLIND=='!B22:AQ22) -> 56 | D22: =B22/C22 -> 0.035714286
A23: ='==HUNTER by BLIND=='!A23 -> 44534 | B23: =SUM('==GOOSE by BLIND=='!B23:AQ23) -> 3 | C23: =SUM('==HUNTER by BLIND=='!B23:AQ23) -> 64 | D23: =B23/C23 -> 0.046875
A24: ='==HUNTER by BLIND=='!A24 -> 44535 | B24: =SUM('==GOOSE by BLIND=='!B24:AQ24) -> 5 | C24: =SUM('==HUNTER by BLIND=='!B24:AQ24) -> 32 | D24: =B24/C24 -> 0.15625
A25: ='==HUNTER by BLIND=='!A25 -> 44538 | B25: =SUM('==GOOSE by BLIND=='!B25:AQ25) -> 54 | C25: =SUM('==HUNTER by BLIND=='!B25:AQ25) -> 58 | D25: =B25/C25 -> 0.93103448
A26: ='==HUNTER by BLIND=='!A26 -> 44541 | B26: =SUM('==GOOSE by BLIND=='!B26:AQ26) -> 27 | C26: =SUM('==HUNTER by BLIND=='!B26:AQ26) -> 76 | D26: =B26/C26 -> 0.35526316
A27: ='==HUNTER by BLIND=='!A27 -> 44542 | B27: =SUM('==GOOSE by BLIND=='!B27:AQ27) -> 1 | C27: =SUM('==HUNTER by BLIND=='!B27:AQ27) -> 47 | D27: =B27/C27 -> 0.021276596
... A47: ='==HUNTER by BLIND=='!A47 -> 44591 | B47: =SUM('==GOOSE by BLIND=='!B47:AQ47) -> 5 | C47: =SUM('==HUNTER by BLIND=='!B47:AQ47) -> 34 | D47: =B47/C47 -> 0.14705882
A48: TOTALS | B48: =SUM(B2:B47) -> 372 | C48: =SUM(C2:C47) -> 2237 | D48: =B48/C48 -> 0.16629414
B50: Youth Hunt Day
B52: Veteran and Active Service Members
B54: Closed To Goose Hunting

Sheet ==UPLAND SUMM==
A1: DATE | B1: HUNTERS | C1: PHEASANTS | D1: QUAIL | E1: PHEASANT/ HUNTER | F1: QUAIL/HUNTER | G1: Permits Not Returned
A2: ='==HUNTER by BLIND=='!A2 -> 44485 | B2: 10 | C2: 3 | D2: 0 | E2: =C2/B2 -> 0.3 | F2: =D2/B2 -> 0
A3: ='==HUNTER by BLIND=='!A3 -> 44486 | B3: 4 | C3: 0 | D3: 1 | E3: =C3/B3 -> 0 | F3: =D3/B3 -> 0.25
A4: ='==HUNTER by BLIND=='!A4 -> 44489 | B4: 4 | C4: 1 | D4: 0 | E4: =C4/B4 -> 0.25 | F4: =D4/B4 -> 0
A5: ='==HUNTER by BLIND=='!A5 -> 44492 | B5: 5 | C5: 0 | D5: 0 | E5: =C5/B5 -> 0 | F5: =D5/B5 -> 0
A6: ='==HUNTER by BLIND=='!A6 -> 44493 | B6: 7 | C6: 0 | D6: 1 | E6: =C6/B6 -> 0 | F6: =D6/B6 -> 0.14285714
A7: ='==HUNTER by BLIND=='!A7 -> 44496 | B7: 2 | C7: 0 | D7: 0 | E7: =C7/B7 -> 0 | F7: =D7/B7 -> 0
A8: ='==HUNTER by BLIND=='!A8 -> 44499 | B8: 2 | C8: 0 | D8: 0 | E8: =C8/B8 -> 0 | F8: =D8/B8 -> 0
A9: ='==HUNTER by BLIND=='!A9 -> 44500 | B9: 0 | C9: 0 | D9: 0 | E9: 0 | F9: 0
A10: ='==HUNTER by BLIND=='!A10 -> 44506 | B10: 0 | C10: 0 | D10: 0 | E10: 0 | F10: 0
A11: ='==HUNTER by BLIND=='!A11 -> 44507 | B11: 0 | C11: 0 | D11: 0 | E11: 0 | F11: 0
A12: ='==HUNTER by BLIND=='!A12 -> 44511 | B12: 0 | C12: 0 | D12: 0 | E12: 0 | F12: 0
A13: ='==HUNTER by BLIND=='!A13 -> 44513 | B13: 0 | C13: 0 | D13: 0 | E13: 0 | F13: 0
A14: ='==HUNTER by BLIND=='!A14 -> 44514 | B14: 7 | C14: 1 | D14: 9 | E14: =C14/B14 -> 0.14285714 | F14: =D14/B14 -> 1.2857143
A15: ='==HUNTER by BLIND=='!A15 -> 44517 | B15: 2 | C15: 0 | D15: 0 | E15: =C15/B15 -> 0 | F15: =D15/B15 -> 0
A16: ='==HUNTER by BLIND=='!A16 -> 44520 | B16: 4 | C16: 1 | D16: 1 | E16: =C16/B16 -> 0.25 | F16: =D16/B16 -> 0.25
A17: ='==HUNTER by BLIND=='!A17 -> 44521 | B17: 0 | C17: 0 | D17: 0 | E17: 0 | F17: 0
A18: ='==HUNTER by BLIND=='!A18 -> 44524 | B18: 0 | C18: 0 | D18: 0 | E18: 0 | F18: 0
A19: ='==HUNTER by BLIND=='!A19 -> 44525 | B19: 0 | C19: 0 | D19: 0 | E19: 0 | F19: 0
A20: ='==HUNTER by BLIND=='!A20 -> 44527 | B20: 0 | C20: 0 | D20: 0 | E20: 0 | F20: 0
A21: ='==HUNTER by BLIND=='!A21 -> 44528 | B21: 0 | C21: 0 | D21: 0 | E21: 0 | F21: 0
A22: ='==HUNTER by BLIND=='!A22 -> 44531 | B22: 3 | C22: 1 | D22: 0 | E22: =C22/B22 -> 0.33333333 | F22: =D22/B22 -> 0
A23: ='==HUNTER by BLIND=='!A23 -> 44534 | B23: 1 | C23: 0 | D23: 0 | E23: =C23/B23 -> 0 | F23: =D23/B23 -> 0
A24: ='==HUNTER by BLIND=='!A24 -> 44535 | B24: 0 | C24: 0 | D24: 0 | E24: 0 | F24: 0
A25: ='==HUNTER by BLIND=='!A25 -> 44538 | B25: 2 | C25: 1 | D25: 0 | E25: =C25/B25 -> 0.5 | F25: =D25/B25 -> 0
A26: ='==HUNTER by BLIND=='!A26 -> 44541 | B26: 1 | C26: 0 | D26: 0 | E26: =C26/B26 -> 0 | F26: =D26/B26 -> 0
A27: ='==HUNTER by BLIND=='!A27 -> 44542 | B27: 1 | C27: 0 | D27: 0 | E27: =C27/B27 -> 0 | F27: =D27/B27 -> 0
A28: ='==HUNTER by BLIND=='!A28 -> 44545 | B28: 0 | C28: 0 | D28: 0 | E28: 0 | F28: 0
A29: ='==HUNTER by BLIND=='!A29 -> 44548 | B29: 1 | C29: 0 | D29: 0 | E29: =C29/B29 -> 0 | F29: =D29/B29 -> 0
A30: ='==HUNTER by BLIND=='!A30 -> 44549 | B30: 1 | C30: 0 | D30: 0 | E30: =C30/B30 -> 0 | F30: =D30/B30 -> 0
A31: ='==HUNTER by BLIND=='!A31 -> 44552 | B31: 1 | C31: 0 | D31: 0 | E31: =C31/B31 -> 0 | F31: =D31/B31 -> 0
A32: ='==HUNTER by BLIND=='!A32 -> 44556 | B32: 0 | C32: 0 | D32: 0 | E32: 0 | F32: 0
A33: ='==HUNTER by BLIND=='!A33 -> 44559 | B33: 0 | C33: 0 | D33: 0 | E33: 0 | F33: 0
A34: ='==HUNTER by BLIND=='!A34 -> 44562 | E34: 0 | F34: 0
A35: ='==HUNTER by BLIND=='!A35 -> 44563 | E35: 0 | F35: 0
A36: ='==HUNTER by BLIND=='!A36 -> 44566 | E36: 0 | F36: 0
A37: ='==HUNTER by BLIND=='!A37 -> 44569 | E37: 0 | F37: 0
A38: ='==HUNTER by BLIND=='!A38 -> 44570 | E38: 0 | F38: 0
A39: ='==HUNTER by BLIND=='!A39 -> 44573 | E39: 0 | F39: 0
A40: ='==HUNTER by BLIND=='!A40 -> 44576 | E40: 0 | F40: 0
A41: ='==HUNTER by BLIND=='!A41 -> 44577 | E41: 0 | F41: 0
A42: ='==HUNTER by BLIND=='!A42 -> 44580 | E42: 0 | F42: 0
A43: ='==HUNTER by BLIND=='!A43 -> 44583 | E43: 0 | F43: 0
A44: ='==HUNTER by BLIND=='!A44 -> 44584 | E44: 0 | F44: 0
A45: ='==HUNTER by BLIND=='!A45 -> 44587 | E45: 0 | F45: 0
... A47: ='==HUNTER by BLIND=='!A47 -> 44591 | E47: 0 | F47: 0
A48: TOTAL BIRDS | B48: =SUM(B2:B47) -> 58 | C48: =SUM(C2:C47) -> 8 | D48: =SUM(D2:D47) -> 12 | E48: =C48/B48 -> 0.13793103 | F48: =D48/B48 -> 0.20689655 | G48: =SUM(G2:G47) -> 0
D50: Youth Hunt Day
D51: Veteran and Active Service Members
D52: Pheasant Hunting Season Closed

Sheet Blind Ranking Stats
A1: BLIND | B1: LOCATION | C1: SUBLOCATION | D1: TOTAL HUNTERS | E1: TOTAL DUCKS | F1: TOTAL GEESE | G1: DUCKS/HUNTER | H1: GEESE/HUNTER | I1: BIRDS/HUNTER
A2: B1 | B2: Slough | C2: East Slough | D2: ='==HUNTER by BLIND=='!B49 -> 9 | E2: ='==DUCK by BLIND=='!B49 -> 8 | F2: ='==GOOSE by BLIND=='!B49 -> 0 | G2: =E2/D2 -> 0.88888889 | H2: =F2/D2 -> 0 | I2: =(E2+F2)/D2 -> 0.88888889
A3: B2 | B3: Slough | C3: East Slough | D3: ='==HUNTER by BLIND=='!C49 -> 9 | E3: ='==DUCK by BLIND=='!C49 -> 18 | F3: ='==GOOSE by BLIND=='!C49 -> 0 | G3: =E3/D3 -> 2 | H3: =F3/D3 -> 0 | I3: =(E3+F3)/D3 -> 2
A4: B3 | B4: Slough | C4: West Slough | D4: ='==HUNTER by BLIND=='!D49 -> 78 | E4: ='==DUCK by BLIND=='!D49 -> 116 | F4: ='==GOOSE by BLIND=='!D49 -> 9 | G4: =E4/D4 -> 1.4871795 | H4: =F4/D4 -> 0.11538462 | I4: =(E4+F4)/D4 -> 1.6025641
A5: B4 | B5: Slough | C5: West Slough | D5: ='==HUNTER by BLIND=='!E49 -> 104 | E5: ='==DUCK by BLIND=='!E49 -> 179 | F5: ='==GOOSE by BLIND=='!E49 -> 4 | G5: =E5/D5 -> 1.7211538 | H5: =F5/D5 -> 0.038461538 | I5: =(E5+F5)/D5 -> 1.7596154
A6: B5 | B6: Slough | C6: West Slough | D6: ='==HUNTER by BLIND=='!F49 -> 56 | E6: ='==DUCK by BLIND=='!F49 -> 78 | F6: ='==GOOSE by BLIND=='!F49 -> 5 | G6: =E6/D6 -> 1.3928571 | H6: =F6/D6 -> 0.089285714 | I6: =(E6+F6)/D6 -> 1.4821429
A7: C1 | B7: Slough | C7: West Slough | D7: ='==HUNTER by BLIND=='!G49 -> 26 | E7: ='==DUCK by BLIND=='!G49 -> 24 | F7: ='==GOOSE by BLIND=='!G49 -> 1 | G7: =E7/D7 -> 0.92307692 | H7: =F7/D7 -> 0.038461538 | I7: =(E7+F7)/D7 -> 0.96153846
A8: C2 | B8: Slough | C8: West Slough | D8: ='==HUNTER by BLIND=='!H49 -> 13 | E8: ='==DUCK by BLIND=='!H49 -> 32 | F8: ='==GOOSE by BLIND=='!H49 -> 2 | G8: =E8/D8 -> 2.4615385 | H8: =F8/D8 -> 0.15384615 | I8: =(E8+F8)/D8 -> 2.6153846
A9: C3 | B9: Slough | C9: West Slough | D9: ='==HUNTER by BLIND=='!I49 -> 42 | E9: ='==DUCK by BLIND=='!I49 -> 52 | F9: ='==GOOSE by BLIND=='!I49 -> 7 | G9: =E9/D9 -> 1.2380952 | H9: =F9/D9 -> 0.16666667 | I9: =(E9+F9)/D9 -> 1.4047619
A10: C4 | B10: Slough | C10: West Slough | D10: ='==HUNTER by BLIND=='!J49 -> 37 | E10: ='==DUCK by BLIND=='!J49 -> 41 | F10: ='==GOOSE by BLIND=='!J49 -> 2 | G10: =E10/D10 -> 1.1081081 | H10: =F10/D10 -> 0.054054054 | I10: =(E10+F10)/D10 -> 1.1621622
A11: F1 | B11: Slough | C11: East Slough | D11: ='==HUNTER by BLIND=='!K49 -> 5 | E11: ='==DUCK by BLIND=='!K49 -> 14 | F11: ='==GOOSE by BLIND=='!K49 -> 0 | G11: =E11/D11 -> 2.8 | H11: =F11/D11 -> 0 | I11: =(E11+F11)/D11 -> 2.8
A12: F2 | B12: Slough | C12: East Slough | D12: ='==HUNTER by BLIND=='!L49 -> 11 | E12: ='==DUCK by BLIND=='!L49 -> 6 | F12: ='==GOOSE by BLIND=='!L49 -> 0 | G12: =E12/D12 -> 0.54545455 | H12: =F12/D12 -> 0 | I12: =(E12+F12)/D12 -> 0.54545455
A13: H1 | B13: Slough | C13: West Slough | D13: ='==HUNTER by BLIND=='!M49 -> 55 | E13: ='==DUCK by BLIND=='!M49 -> 48 | F13: ='==GOOSE by BLIND=='!M49 -> 0 | G13: =E13/D13 -> 0.87272727 | H13: =F13/D13 -> 0 | I13: =(E13+F13)/D13 -> 0.87272727
A14: I1 | B14: Slough | C14: West Slough | D14: ='==HUNTER by BLIND=='!N49 -> 65 | E14: ='==DUCK by BLIND=='!N49 -> 75 | F14: ='==GOOSE by BLIND=='!N49 -> 6 | G14: =E14/D14 -> 1.1538462 | H14: =F14/D14 -> 0.092307692 | I14: =(E14+F14)/D14 -> 1.2461538
A15: J1 | B15: Slough | C15: West Slough | D15: ='==HUNTER by BLIND=='!O49 -> 22 | E15: ='==DUCK by BLIND=='!O49 -> 6 | F15: ='==GOOSE by BLIND=='!O49 -> 0 | G15: =E15/D15 -> 0.27272727 | H15: =F15/D15 -> 0 | I15: =(E15+F15)/D15 -> 0.27272727
A16: J2 | B16: Slough | C16: West Slough | D16: ='==HUNTER by BLIND=='!P49 -> 15 | E16: ='==DUCK by BLIND=='!P49 -> 8 | F16: ='==GOOSE by BLIND=='!P49 -> 0 | G16: =E16/D16 -> 0.53333333 | H16: =F16/D16 -> 0 | I16: =(E16+F16)/D16 -> 0.53333333
A17: 01 | B17: River | C17: North River | D17: ='==HUNTER by BLIND=='!Q49 -> 72 | E17: ='==DUCK by BLIND=='!Q49 -> 112 | F17: ='==GOOSE by BLIND=='!Q49 -> 9 | G17: =E17/D17 -> 1.5555556 | H17: =F17/D17 -> 0.125 | I17: =(E17+F17)/D17 -> 1.6805556
A18: 02 | B18: River | C18: North River | D18: ='==HUNTER by BLIND=='!R49 -> 170 | E18: ='==DUCK by BLIND=='!R49 -> 557 | F18: ='==GOOSE by BLIND=='!R49 -> 26 | G18: =E18/D18 -> 3.2764706 | H18: =F18/D18 -> 0.15294118 | I18: =(E18+F18)/D18 -> 3.4294118
A19: 03 | B19: River | C19: North River | D19: ='==HUNTER by BLIND=='!S49 -> 179 | E19: ='==DUCK by BLIND=='!S49 -> 861 | F19: ='==GOOSE by BLIND=='!S49 -> 37 | G19: =E19/D19 -> 4.8100559 | H19: =F19/D19 -> 0.20670391 | I19: =(E19+F19)/D19 -> 5.0167598
A20: 04 | B20: Pond | C20: North Pond | D20: ='==HUNTER by BLIND=='!T49 -> 18 | E20: ='==DUCK by BLIND=='!T49 -> 23 | F20: ='==GOOSE by BLIND=='!T49 -> 1 | G20: =E20/D20 -> 1.2777778 | H20: =F20/D20 -> 0.055555556 | I20: =(E20+F20)/D20 -> 1.3333333
A21: 12 | B21: River | C21: East River | D21: ='==HUNTER by BLIND=='!U49 -> 167 | E21: ='==DUCK by BLIND=='!U49 -> 471 | F21: ='==GOOSE by BLIND=='!U49 -> 21 | G21: =E21/D21 -> 2.8203593 | H21: =F21/D21 -> 0.1257485 | I21: =(E21+F21)/D21 -> 2.9461078
A22: 13 | B22: River | C22: East River | D22: ='==HUNTER by BLIND=='!V49 -> 54 | E22: ='==DUCK by BLIND=='!V49 -> 61 | F22: ='==GOOSE by BLIND=='!V49 -> 6 | G22: =E22/D22 -> 1.1296296 | H22: =F22/D22 -> 0.11111111 | I22: =(E22+F22)/D22 -> 1.2407407
A23: 14 | B23: River | C23: East River | D23: ='==HUNTER by BLIND=='!W49 -> 156 | E23: ='==DUCK by BLIND=='!W49 -> 485 | F23: ='==GOOSE by BLIND=='!W49 -> 40 | G23: =E23/D23 -> 3.1089744 | H23: =F23/D23 -> 0.25641026 | I23: =(E23+F23)/D23 -> 3.3653846
A24: 15 | B24: River | C24: East River | D24: ='==HUNTER by BLIND=='!X49 -> 164 | E24: ='==DUCK by BLIND=='!X49 -> 519 | F24: ='==GOOSE by BLIND=='!X49 -> 36 | G24: =E24/D24 -> 3.1646341 | H24: =F24/D24 -> 0.2195122 | I24: =(E24+F24)/D24 -> 3.3841463
A25: 16 | B25: River | C25: West River | D25: ='==HUNTER by BLIND=='!Y49 -> 98 | E25: ='==DUCK by BLIND=='!Y49 -> 142 | F25: ='==GOOSE by BLIND=='!Y49 -> 5 | G25: =E25/D25 -> 1.4489796 | H25: =F25/D25 -> 0.051020408 | I25: =(E25+F25)/D25 -> 1.5
A26: 17 | B26: River | C26: West River | D26: ='==HUNTER by BLIND=='!Z49 -> 56 | E26: ='==DUCK by BLIND=='!Z49 -> 32 | F26: ='==GOOSE by BLIND=='!Z49 -> 3 | G26: =E26/D26 -> 0.57142857 | H26: =F26/D26 -> 0.053571429 | I26: =(E26+F26)/D26 -> 0.625
A27: 18 | B27: River | C27: West River | D27: ='==HUNTER by BLIND=='!AA49 -> 108 | E27: ='==DUCK by BLIND=='!AA49 -> 213 | F27: ='==GOOSE by BLIND=='!AA49 -> 8 | G27: =E27/D27 -> 1.9722222 | H27: =F27/D27 -> 0.074074074 | I27: =(E27+F27)/D27 -> 2.0462963
A28: 19 | B28: River | C28: West River | D28: ='==HUNTER by BLIND=='!AB49 -> 92 | E28: ='==DUCK by BLIND=='!AB49 -> 177 | F28: ='==GOOSE by BLIND=='!AB49 -> 8 | G28: =E28/D28 -> 1.923913 | H28: =F28/D28 -> 0.086956522 | I28: =(E28+F28)/D28 -> 2.0108696
A29: 20 | B29: River | C29: West River | D29: ='==HUNTER by BLIND=='!AC49 -> 66 | E29: ='==DUCK by BLIND=='!AC49 -> 98 | F29: ='==GOOSE by BLIND=='!AC49 -> 12 | G29: =E29/D29 -> 1.4848485 | H29: =F29/D29 -> 0.18181818 | I29: =(E29+F29)/D29 -> 1.6666667
A30: 21 | B30: River | C30: West River | D30: ='==HUNTER by BLIND=='!AD49 -> 93 | E30: ='==DUCK by BLIND=='!AD49 -> 78 | F30: ='==GOOSE by BLIND=='!AD49 -> 4 | G30: =E30/D30 -> 0.83870968 | H30: =F30/D30 -> 0.043010753 | I30: =(E30+F30)/D30 -> 0.88172043
A31: 22 | B31: River | C31: West River | D31: ='==HUNTER by BLIND=='!AE49 -> 26 | E31: ='==DUCK by BLIND=='!AE49 -> 20 | F31: ='==GOOSE by BLIND=='!AE49 -> 0 | G31: =E31/D31 -> 0.76923077 | H31: =F31/D31 -> 0 | I31: =(E31+F31)/D31 -> 0.76923077
A32: 40 | B32: Field | C32: C5 | D32: ='==HUNTER by BLIND=='!AF49 -> 41 | E32: ='==DUCK by BLIND=='!AF49 -> 2 | F32: ='==GOOSE by BLIND=='!AF49 -> 11 | G32: =E32/D32 -> 0.048780488 | H32: =F32/D32 -> 0.26829268 | I32: =(E32+F32)/D32 -> 0.31707317
A33: 41 | B33: Field | C33: C5 | D33: ='==HUNTER by BLIND=='!AG49 -> 30 | E33: ='==DUCK by BLIND=='!AG49 -> 2 | F33: ='==GOOSE by BLIND=='!AG49 -> 8 | G33: =E33/D33 -> 0.066666667 | H33: =F33/D33 -> 0.26666667 | I33: =(E33+F33)/D33 -> 0.33333333
A34: 42 | B34: Field | C34: C3 | D34: ='==HUNTER by BLIND=='!AH49 -> 4 | E34: ='==DUCK by BLIND=='!AH49 -> 0 | F34: ='==GOOSE by BLIND=='!AH49 -> 3 | G34: =E34/D34 -> 0 | H34: =F34/D34 -> 0.75 | I34: =(E34+F34)/D34 -> 0.75
A35: 43 | B35: Field | C35: C3 | D35: ='==HUNTER by BLIND=='!AI49 -> 21 | E35: ='==DUCK by BLIND=='!AI49 -> 0 | F35: ='==GOOSE by BLIND=='!AI49 -> 5 | G35: =E35/D35 -> 0 | H35: =F35/D35 -> 0.23809524 | I35: =(E35+F35)/D35 -> 0.23809524
A36: 44 | B36: Field | C36: C2 | D36: ='==HUNTER by BLIND=='!AJ49 -> 3 | E36: ='==DUCK by BLIND=='!AJ49 -> 0 | F36: ='==GOOSE by BLIND=='!AJ49 -> 1 | G36: =E36/D36 -> 0 | H36: =F36/D36 -> 0.33333333 | I36: =(E36+F36)/D36 -> 0.33333333
A37: 45 | B37: Field | C37: C2 | D37: ='==HUNTER by BLIND=='!AK49 -> 4 | E37: ='==DUCK by BLIND=='!AK49 -> 0 | F37: ='==GOOSE by BLIND=='!AK49 -> 6 | G37: =E37/D37 -> 0 | H37: =F37/D37 -> 1.5 | I37: =(E37+F37)/D37 -> 1.5
A38: 46 | B38: Field | C38: C1 | D38: ='==HUNTER by BLIND=='!AL49 -> 2 | E38: ='==DUCK by BLIND=='!AL49 -> 0 | F38: ='==GOOSE by BLIND=='!AL49 -> 0 | G38: =E38/D38 -> 0 | H38: =F38/D38 -> 0 | I38: =(E38+F38)/D38 -> 0
A39: 47 | B39: Field | C39: C1 | D39: ='==HUNTER by BLIND=='!AM49 -> 3 | E39: ='==DUCK by BLIND=='!AM49 -> 0 | F39: ='==GOOSE by BLIND=='!AM49 -> 0 | G39: =E39/D39 -> 0 | H39: =F39/D39 -> 0 | I39: =(E39+F39)/D39 -> 0
A40: 48 | B40: Field | C40: C4 | D40: ='==HUNTER by BLIND=='!AN49 -> 7 | E40: ='==DUCK by BLIND=='!AN49 -> 0 | F40: ='==GOOSE by BLIND=='!AN49 -> 4 | G40: =E40/D40 -> 0 | H40: =F40/D40 -> 0.57142857 | I40: =(E40+F40)/D40 -> 0.57142857
A41: 50 | B41: Field | C41: C4 | D41: ='==HUNTER by BLIND=='!AO49 -> 16 | E41: ='==DUCK by BLIND=='!AO49 -> 2 | F41: ='==GOOSE by BLIND=='!AO49 -> 2 | G41: =E41/D41 -> 0.125 | H41: =F41/D41 -> 0.125 | I41: =(E41+F41)/D41 -> 0.25
A42: 60 | B42: Desert | C42: East Desert | D42: ='==HUNTER by BLIND=='!AP49 -> 10 | E42: ='==DUCK by BLIND=='!AP49 -> 0 | F42: ='==GOOSE by BLIND=='!AP49 -> 13 | G42: =E42/D42 -> 0 | H42: =F42/D42 -> 1.3 | I42: =(E42+F42)/D42 -> 1.3
A43: 61 | B43: Desert | C43: West Desert | D43: ='==HUNTER by BLIND=='!AQ49 -> 30 | E43: ='==DUCK by BLIND=='!AQ49 -> 2 | F43: ='==GOOSE by BLIND=='!AQ49 -> 67 | G43: =E43/D43 -> 0.066666667 | H43: =F43/D43 -> 2.2333333 | I43: =(E43+F43)/D43 -> 2.3
B44: Grand Totals | D44: =SUM(D2:D43) -> 2237 | E44: =SUM(E2:E43) -> 4562 | F44: =SUM(F2:F43) -> 372 | G44: =E44/D44 -> 2.0393384 | H44: =F44/D44 -> 0.16629414 | I44: =(E44+F44)/D44 -> 2.2056325
